Workbook

Sheet ANEXO No 1
A1: INSTITUCIÓN EDUCATIVA SANTA ANA
A2: MUNICIPIO DE COLOMBIA- HUILA
A3: NIT: 813.007.522-4
A4: CODIGO DANE No.241206001078
A5: DIRECCION: VEREDA SANTA ANA
A7: ANEXO No 1o.
A8: EJECUCION PRESUPUESTAL DE INGRESOS
A9: VIGENCIA 2025 | D9: VIGENCIA 2013
G11: TRIM. 1° | I11: TRIM. 2 | L11: TRIM. 3 | N11: TRIM. 4 | O11: X
E15: ANEXO 8 | F15: ANEXO 7 | G15: ANEXO 5 | H15: ANEXO 4 | I15: ANEXO 6 | J15: ANEXO 9
A16: CÓDIGO COMPLETO | B16: NIVEL | C16: TIPO | D16: NOMBRE DE LA CUENTA | E16: VENTA DE BIENES Y SERVICIOS | F16: TRANSFERENCIAS DE OTRAS ENTIDADES DEL GOBIERNO GENERAL | G16: TRANSFERENCIAS DEPARTAMENTALES | H16: CALIDAD POR GRATUIDAD | I16: TRANSFERENCIAS MUNICIPALES | J16: RECURSOS DE CAPITAL | K16: PRESUPUESTO INICIAL | L16: MODIFICACIONES | N16: PRESUPUESTO DEFINITIVO | O16: RECAUDOS EFECTIVOS | T16: PRESUPUESTO POR EJECUTAR
L17: ADICIONES | M17: REDUCCIONES | O17: 1º TRIMESTRE | P17: 2º TRIMESTRE | Q17: 3º TRIMESTRE | R17: 4º TRIMESTRE | S17: ACUMULADO
A18: 1 | B18: 1 | C18: A | D18: Ingresos | E18: =+E19+E57 -> 0 | F18: =+F19+F57 -> 0 | G18: =+G19+G57 -> 50270000 | H18: =+H19+H57 -> 30000000 | I18: =+I19+I57 -> 10000000 | J18: =+J19 -> 500000 | K18: =+K19+K57 -> 90770000 | L18: =+L19+L57 -> 76546402 | M18: =+M19+M57 -> 0 | N18: =+N19+N57 -> 1.673164e+08 | O18: =+O19+O57 -> 1.2393101e+08 | P18: =+P19+P57 -> 1208022 | Q18: =+Q19+Q57 -> 42893392 | R18: =+R19+R57 -> 245274 | ... T18: =+T19+T57 -> -961292
A19: 1.1 | B19: 2 | C19: A | D19: Ingresos Corrientes | E19: =+E20 -> 0 | F19: =+F20 -> 0 | G19: =+G20 -> 50270000 | H19: =+H20 -> 30000000 | I19: =+I20 -> 10000000 | J19: =+J20 -> 500000 | K19: =+K20 -> 90270000 | L19: =+L20 -> 68741666 | ... T19: =+T20 -> 0
A20: 1.1.02 | B20: 3 | C20: A | D20: Ingresos no tributarios | E20: =+E21 -> 0 | F20: =+F47 -> 0 | G20: =+G50 -> 50270000 | H20: =+H45 -> 30000000 | I20: =+I54 -> 10000000 | J20: =+J57 -> 500000 | K20: =+K21+K42 -> 90270000 | L20: =+L21+L42 -> 68741666 | M20: =+M21+M42 -> 0 | N20: =+N21+N42 -> 159011666 | O20: =+O21+O42 -> 1.1606586e+08 | P20: =+P21+P42 -> 663465 | Q20: =+Q21+Q42 -> 42282342 | R20: =+R21+R42 -> 0 | ... T20: =+T21+T42 -> 0
A21: 1.1.02.05 | B21: 4 | C21: A | D21: Venta de bienes y servicios | E21: =+E22 -> 0 | F21: =+F22 -> 0 | G21: =+G22 -> 0 | H21: =+H22 -> 0 | I21: =+I22 -> 0 | J21: =+J22 -> 0 | K21: =+K22 -> 0 | L21: =+L22 -> 0 | ... T21: =+T22 -> 0
A22: 1.1.02.05.002 | B22: 5 | C22: A | D22: Ventas incidentales de establecimientos no de mercado | E22: =+E23+E27+E29+E33 -> 0 | F22: =+F23+F27+F29+F33 -> 0 | G22: =+G23+G27+G29+G33 -> 0 | H22: =+H23+H27+H29+H33 -> 0 | I22: =+I23+I27+I29+I33 -> 0 | J22: =+J23+J27+J29+J33 -> 0 | K22: =+K23+K27+K29+K33 -> 0 | L22: =+L23+L27+L29+L33 -> 0 | ... T22: =+T23+T27+T29+T33 -> 0
A23: 1.1.02.05.002.00 | B23: 6 | C23: A | D23: Agricultura, silvicultura y productos de la pesca | E23: =SUM(E24:E26) -> 0 | F23: =SUM(F24:F26) -> 0 | G23: =SUM(G24:G26) -> 0 | H23: =SUM(H24:H26) -> 0 | I23: =SUM(I24:I26) -> 0 | J23: =SUM(J24:J26) -> 0 | K23: =SUM(K24:K26) -> 0 | L23: =SUM(L24:L26) -> 0 | ... T23: =SUM(T24:T26) -> 0
A24: 1.1.02.05.002.00.01 | B24: 7 | C24: C | D24: Productos de la agricultura y la horticultura | K24: =SUM(E24:J24) -> 0 | N24: =+K24+L24-M24 -> 0 | S24: =SUM(O24:R24) -> 0 | T24: =+N24-S24 -> 0
A25: 1.1.02.05.002.00.02 | B25: 7 | C25: C | D25: Animales vivos y productos animales (Excepto la carne) | K25: =SUM(E25:J25) -> 0 | N25: =+K25+L25-M25 -> 0 | S25: =SUM(O25:R25) -> 0 | T25: =+N25-S25 -> 0
A26: 1.1.02.05.002.00.03 | B26: 7 | C26: C | D26: Pescado y otros productos de la pesca | K26: =SUM(E26:J26) -> 0 | N26: =+K26+L26-M26 -> 0 | S26: =SUM(O26:R26) -> 0 | T26: =+N26-S26 -> 0
A27: 1.1.02.05.002.06 | B27: 6 | C27: A | D27: Servicios de alojamiento; servicios de suministro de comidas y bebidas; servicios de transporte; y servicios de distribución de electricidad, gas y agua | E27: =+E28 -> 0 | F27: =+F28 -> 0 | G27: =+G28 -> 0 | H27: =+H28 -> 0 | I27: =+I28 -> 0 | J27: =+J28 -> 0 | K27: =+K28 -> 0 | L27: =+L28 -> 0 | ... T27: =+T28 -> 0
A28: 1.1.02.05.002.06.01 | B28: 7 | C28: C | D28: Venta alimentos de procesados | K28: =SUM(E28:J28) -> 0 | N28: =+K28+L28-M28 -> 0 | S28: =SUM(O28:R28) -> 0 | T28: =+N28-S28 -> 0
A29: 1.1.02.05.002.07 | B29: 6 | C29: A | D29: Servicios financieros y servicios conexos, servicios inmobiliarios y servicios de leasing | E29: =+E30+E31+E32 -> 0 | F29: =+F30+F31+F32 -> 0 | G29: =+G30+G31+G32 -> 0 | H29: =+H30+H31+H32 -> 0 | I29: =+I30+I31+I32 -> 0 | J29: =+J30+J31+J32 -> 0 | K29: =+K30+K31+K32 -> 0 | L29: =+L30+L31+L32 -> 0 | ... T29: =+T30+T31+T32 -> 0
A30: 1.1.02.05.002.07.01 | B30: 7 | C30: C | D30: Arrendamiento Tienda Escolar | K30: =SUM(E30:J30) -> 0 | N30: =+K30+L30-M30 -> 0 | S30: =SUM(O30:R30) -> 0 | T30: =+N30-S30 -> 0
A31: 1.1.02.05.002.07.02 | B31: 7 | C31: C | D31: Arrendamiento de Muebles y equipos | K31: =SUM(E31:J31) -> 0 | N31: =+K31+L31-M31 -> 0 | S31: =SUM(O31:R31) -> 0 | T31: =+N31-S31 -> 0
A32: 1.1.02.05.002.07.03 | B32: 7 | C32: C | D32: Arrendamiento Otros espacios fisicos | K32: =SUM(E32:J32) -> 0 | N32: =+K32+L32-M32 -> 0 | S32: =SUM(O32:R32) -> 0 | T32: =+N32-S32 -> 0
A33: 1.1.02.05.002.09 | B33: 6 | C33: A | D33: Servicios para la comunidad, sociales y personales | E33: =+E34+E38+E39+E40+E41 -> 0 | F33: =+F34+F38+F39+F40+F41 -> 0 | G33: =+G34+G38+G39+G40+G41 -> 0 | H33: =+H34+H38+H39+H40+H41 -> 0 | I33: =+I34+I38+I39+I40+I41 -> 0 | J33: =+J34+J38+J39+J40+J41 -> 0 | K33: =+K34+K38+K39+K40+K41 -> 0 | L33: =+L34+L38+L39+L40+L41 -> 0 | ... T33: =+T34+T38+T39+T40+T41 -> 0
A34: 1.1.02.05.002.09.01 | B34: 7 | C34: A | D34: Nivel Ciclo Complementario | E34: =SUM(E35:E37) -> 0 | F34: =SUM(F35:F37) -> 0 | G34: =SUM(G35:G37) -> 0 | H34: =SUM(H35:H37) -> 0 | I34: =SUM(I35:I37) -> 0 | J34: =SUM(J35:J37) -> 0 | K34: =SUM(K35:K37) -> 0 | L34: =SUM(L35:L37) -> 0 | ... T34: =SUM(T35:T37) -> 0
A35: 1.1.02.05.002.09.01.01 | B35: 8 | C35: C | D35: Matricula | K35: =SUM(E35:J35) -> 0 | N35: =+K35+L35-M35 -> 0 | S35: =SUM(O35:R35) -> 0 | T35: =+N35-S35 -> 0
A36: 1.1.02.05.002.09.01.02 | B36: 8 | C36: C | D36: Constancias y certificados de estudio | K36: =SUM(E36:J36) -> 0 | N36: =+K36+L36-M36 -> 0 | S36: =SUM(O36:R36) -> 0 | T36: =+N36-S36 -> 0
A37: 1.1.02.05.002.09.01.03 | B37: 8 | C37: C | D37: Derechos de grado | K37: =SUM(E37:J37) -> 0 | N37: =+K37+L37-M37 -> 0 | S37: =SUM(O37:R37) -> 0 | T37: =+N37-S37 -> 0
A38: 1.1.02.05.002.09.02 | B38: 7 | C38: C | D38: Registro Escolar o Certificados de Estudios | K38: =SUM(E38:J38) -> 0 | N38: =+K38+L38-M38 -> 0 | S38: =SUM(O38:R38) -> 0 | T38: =+N38-S38 -> 0
A39: 1.1.02.05.002.09.03 | B39: 7 | C39: C | D39: Constancias | K39: =SUM(E39:J39) -> 0 | N39: =+K39+L39-M39 -> 0 | S39: =SUM(O39:R39) -> 0 | T39: =+N39-S39 -> 0
A40: 1.1.02.05.002.09.04 | B40: 7 | C40: C | D40: Duplicado titulo de Bachiller y Actas de Grado | K40: =SUM(E40:J40) -> 0 | N40: =+K40+L40-M40 -> 0 | S40: =SUM(O40:R40) -> 0 | T40: =+N40-S40 -> 0
A41: 1.1.02.05.002.09.05 | B41: 7 | C41: C | D41: Duplicado certificado de Bachiller Básico | K41: =SUM(E41:J41) -> 0 | N41: =+K41+L41-M41 -> 0 | S41: =SUM(O41:R41) -> 0 | T41: =+N41-S41 -> 0
A42: 1.1.02.06 | B42: 4 | C42: A | D42: Transferencias corrientes | E42: =+E43+E47+E49 -> 0 | F42: =+F43+F47+F49 -> 0 | G42: =+G43+G47+G49 -> 50270000 | H42: =+H43+H47+H49 -> 30000000 | I42: =+I43+I47+I49 -> 10000000 | J42: =+J43+J47+J49 -> 0 | K42: =+K43+K47+K49 -> 90270000 | L42: =+L43+L47+L49 -> 68741666 | ... T42: =+T43+T47+T49 -> 0
A43: 1.1.02.06.001 | B43: 5 | C43: A | D43: Sistema General de Participaciones | E43: =+E44 -> 0 | F43: =+F44 -> 0 | G43: =+G44 -> 0 | H43: =+H44 -> 30000000 | I43: =+I44 -> 0 | J43: =+J44 -> 0 | K43: =+K44 -> 30000000 | L43: =+L44 -> 58783516 | ... T43: =+T44 -> 0
A44: 1.1.02.06.001.01 | B44: 6 | C44: A | D44: Participación para educación | E44: =+E45 -> 0 | F44: =+F45 -> 0 | G44: =+G45 -> 0 | H44: =+H45 -> 30000000 | I44: =+I45 -> 0 | J44: =+J45 -> 0 | K44: =+K45 -> 30000000 | L44: =+L45 -> 58783516 | ... T44: =+T45 -> 0
A45: 1.1.02.06.001.01.03 | B45: 7 | C45: A | D45: Calidad | E45: =+E46 -> 0 | F45: =+F46 -> 0 | G45: =+G46 -> 0 | H45: =+H46 -> 30000000 | I45: =+I46 -> 0 | J45: =+J46 -> 0 | K45: =+K46 -> 30000000 | L45: =+L46 -> 58783516 | ... T45: =+T46 -> 0
...

Sheet ANEXO No 2
A1: ='ANEXO No 1'!A1:T1 -> INSTITUCIÓN EDUCATIVA SANTA ANA
A2: ='ANEXO No 1'!A2:T2 -> MUNICIPIO DE COLOMBIA- HUILA
A3: ='ANEXO No 1'!A3:T3 -> NIT: 813.007.522-4
A4: ='ANEXO No 1'!A4:T4 -> CODIGO DANE No.241206001078
A5: ='ANEXO No 1'!A5:T5 -> DIRECCION: VEREDA SANTA ANA
A7: ANEXO No 2
A8: EJECUCION PRESUPUESTAL DE GASTOS E INVERSIÓN
A9: ='ANEXO No 1'!A9:T9 -> VIGENCIA 2025
F11: TRIM. 1° | G11: ='ANEXO No 1'!H11 -> 0 | H11: TRIM. 2 | I11: ='ANEXO No 1'!J11 -> 0 | J11: TRIM. 3 | K11: ='ANEXO No 1'!M11 -> 0 | L11: TRIM. 4 | M11: ='ANEXO No 1'!O11 -> X
A14: CÓDIGO COMPLETO | B14: NIVEL | C14: TIPO | D14: NOMBRE DE LA CUENTA | E14: PRESUPUESTO INICIAL (1) | F14: MODIFICACIONES | J14: PRESUPUESTO DEFINITIVO 1+2-3+4-5 = (6) | K14: DISPONIBILIDAD (CDP) (7) | L14: COMPROMISO (RP) (8) | M14: OBLIGACIONES (9) | N14: PAGOS (10) | O14: APROPIACIÓN DISPONIBLE 6 - 7 = (11) | P14: PRESUPUESTO POR EJECUTAR 6 - 8 = (12)
F15: ADICIONES (2) | G15: REDUCCIONES (3) | H15: CREDITOS (4) | I15: CONTRACREDITOS (5)
A16: 2 | B16: 1 | C16: A | D16: Gastos | E16: =+E17 -> 90770000 | F16: =+F17 -> 76546402 | G16: =+G17 -> 0 | H16: =+H17 -> 2096280 | I16: =+I17 -> 2096280 | J16: =+J17 -> 1.673164e+08 | K16: =+K17 -> 147752288 | L16: =+L17 -> 147752288 | ... P16: =+P17 -> 19564114
A17: 2.1 | B17: 2 | C17: A | D17: Funcionamiento | E17: =+E18+E112 -> 90770000 | F17: =+F18+F112 -> 76546402 | G17: =+G18+G112 -> 0 | H17: =+H18+H112 -> 2096280 | I17: =+I18+I112 -> 2096280 | J17: =+J18+J112 -> 1.673164e+08 | K17: =+K18+K112 -> 147752288 | L17: =+L18+L112 -> 147752288 | ... P17: =+P18+P112 -> 19564114
A18: 2.1.2 | B18: 3 | C18: A | D18: Adquisición de bienes y servicios | E18: =+E19+E65 -> 90770000 | F18: =+F19+F65 -> 76440122 | G18: =+G19+G65 -> 0 | H18: =+H19+H65 -> 2096280 | I18: =+I19+I65 -> 2000000 | J18: =+J19+J65 -> 167306402 | K18: =+K19+K65 -> 147752288 | L18: =+L19+L65 -> 147752288 | ... P18: =+P19+P65 -> 19554114
A19: 2.1.2.01 | B19: 4 | C19: A | D19: Adquisición de activos no financieros | E19: =+E20+E43+E53 -> 4600000 | F19: =+F20+F43+F53 -> 30000000 | G19: =+G20+G43+G53 -> 0 | H19: =+H20+H43+H53 -> 1500000 | I19: =+I20+I43+I53 -> 0 | J19: =+J20+J43+J53 -> 36100000 | K19: =+K20+K43+K53 -> 32500000 | L19: =+L20+L43+L53 -> 32500000 | ... P19: =+P20+P43+P53 -> 3600000
A20: 2.1.2.01.01 | B20: 5 | C20: A | D20: Activos Fijos | E20: =+E21 -> 2600000 | F20: =+F21 -> 20000000 | G20: =+G21 -> 0 | H20: =+H21 -> 1500000 | I20: =+I21 -> 0 | J20: =+J21 -> 24100000 | K20: =+K21 -> 23500000 | L20: =+L21 -> 23500000 | ... P20: =+P21 -> 600000
A21: 2.1.2.01.01.003 | B21: 6 | C21: A | D21: Maquinaria y equipo | E21: =+E22+E25+E30+E32+E39 -> 2600000 | F21: =+F22+F25+F30+F32+F39 -> 20000000 | G21: =+G22+G25+G30+G32+G39 -> 0 | H21: =+H22+H25+H30+H32+H39 -> 1500000 | I21: =+I22+I25+I30+I32+I39 -> 0 | J21: =+J22+J25+J30+J32+J39 -> 24100000 | K21: =+K22+K25+K30+K32+K39 -> 23500000 | L21: =+L22+L25+L30+L32+L39 -> 23500000 | ... P21: =+P22+P25+P30+P32+P39 -> 600000
A22: 2.1.2.01.01.003.01 | B22: 7 | C22: A | D22: Maquinaria para uso general | E22: =SUM(E23:E24) -> 0 | F22: =SUM(F23:F24) -> 0 | G22: =SUM(G23:G24) -> 0 | H22: =SUM(H23:H24) -> 0 | I22: =SUM(I23:I24) -> 0 | J22: =SUM(J23:J24) -> 0 | K22: =SUM(K23:K24) -> 0 | L22: =SUM(L23:L24) -> 0 | ... P22: =SUM(P23:P24) -> 0
A23: 2.1.2.01.01.003.01.02 | B23: 8 | C23: C | D23: Bombas, compresores, motores de fuerza hidráulica y motores de potencia neumática y válvulas y sus partes y piezas | E23: =+'ANEXO No 4'!E23+'ANEXO No 5'!E23+'ANEXO No 6 '!E23+'ANEXO No 7'!E23+'ANEXO No 8'!E23+'ANEXO No 9'!E23 -> 0 | F23: =+'ANEXO No 4'!F23+'ANEXO No 5'!F23+'ANEXO No 6 '!F23+'ANEXO No 7'!F23+'ANEXO No 8'!F23+'ANEXO No 9'!F23 -> 0 | G23: =+'ANEXO No 4'!G23+'ANEXO No 5'!G23+'ANEXO No 6 '!G23+'ANEXO No 7'!G23+'ANEXO No 8'!G23+'ANEXO No 9'!G23 -> 0 | H23: =+'ANEXO No 4'!H23+'ANEXO No 5'!H23+'ANEXO No 6 '!H23+'ANEXO No 7'!H23+'ANEXO No 8'!H23+'ANEXO No 9'!H23 -> 0 | I23: =+'ANEXO No 4'!I23+'ANEXO No 5'!I23+'ANEXO No 6 '!I23+'ANEXO No 7'!I23+'ANEXO No 8'!I23+'ANEXO No 9'!I23 -> 0 | J23: =+'ANEXO No 4'!J23+'ANEXO No 5'!J23+'ANEXO No 6 '!J23+'ANEXO No 7'!J23+'ANEXO No 8'!J23+'ANEXO No 9'!J23 -> 0 | K23: =+'ANEXO No 4'!O23+'ANEXO No 5'!O23+'ANEXO No 6 '!O23+'ANEXO No 7'!O23+'ANEXO No 8'!O23+'ANEXO No 9'!O23 -> 0 | L23: =+'ANEXO No 4'!P23+'ANEXO No 5'!P23+'ANEXO No 6 '!P23+'ANEXO No 7'!P23+'ANEXO No 8'!P23+'ANEXO No 9'!P23 -> 0 | M23: =+'ANEXO No 4'!U23+'ANEXO No 5'!U23+'ANEXO No 6 '!U23+'ANEXO No 7'!U23+'ANEXO No 8'!U23+'ANEXO No 9'!U23 -> 0 | N23: =+'ANEXO No 4'!Z23+'ANEXO No 5'!Z23+'ANEXO No 6 '!Z23+'ANEXO No 7'!Z23+'ANEXO No 8'!Z23+'ANEXO No 9'!Z23 -> 0 | O23: =+J23-K23 -> 0 | P23: =+J23-L23 -> 0
A24: 2.1.2.01.01.003.01.06 | B24: 8 | C24: C | D24: Otras máquinas para usos generales y sus partes y piezas | E24: =+'ANEXO No 4'!E24+'ANEXO No 5'!E24+'ANEXO No 6 '!E24+'ANEXO No 7'!E24+'ANEXO No 8'!E24+'ANEXO No 9'!E24 -> 0 | F24: =+'ANEXO No 4'!F24+'ANEXO No 5'!F24+'ANEXO No 6 '!F24+'ANEXO No 7'!F24+'ANEXO No 8'!F24+'ANEXO No 9'!F24 -> 0 | G24: =+'ANEXO No 4'!G24+'ANEXO No 5'!G24+'ANEXO No 6 '!G24+'ANEXO No 7'!G24+'ANEXO No 8'!G24+'ANEXO No 9'!G24 -> 0 | H24: =+'ANEXO No 4'!H24+'ANEXO No 5'!H24+'ANEXO No 6 '!H24+'ANEXO No 7'!H24+'ANEXO No 8'!H24+'ANEXO No 9'!H24 -> 0 | I24: =+'ANEXO No 4'!I24+'ANEXO No 5'!I24+'ANEXO No 6 '!I24+'ANEXO No 7'!I24+'ANEXO No 8'!I24+'ANEXO No 9'!I24 -> 0 | J24: =+'ANEXO No 4'!J24+'ANEXO No 5'!J24+'ANEXO No 6 '!J24+'ANEXO No 7'!J24+'ANEXO No 8'!J24+'ANEXO No 9'!J24 -> 0 | K24: =+'ANEXO No 4'!O24+'ANEXO No 5'!O24+'ANEXO No 6 '!O24+'ANEXO No 7'!O24+'ANEXO No 8'!O24+'ANEXO No 9'!O24 -> 0 | L24: =+'ANEXO No 4'!P24+'ANEXO No 5'!P24+'ANEXO No 6 '!P24+'ANEXO No 7'!P24+'ANEXO No 8'!P24+'ANEXO No 9'!P24 -> 0 | M24: =+'ANEXO No 4'!U24+'ANEXO No 5'!U24+'ANEXO No 6 '!U24+'ANEXO No 7'!U24+'ANEXO No 8'!U24+'ANEXO No 9'!U24 -> 0 | N24: =+'ANEXO No 4'!Z24+'ANEXO No 5'!Z24+'ANEXO No 6 '!Z24+'ANEXO No 7'!Z24+'ANEXO No 8'!Z24+'ANEXO No 9'!Z24 -> 0 | O24: =+J24-K24 -> 0 | P24: =+J24-L24 -> 0
A25: 2.1.2.01.01.003.02 | B25: 7 | C25: A | D25: Maquinaria para usos especiales | E25: =SUM(E26:E29) -> 0 | F25: =SUM(F26:F29) -> 0 | G25: =SUM(G26:G29) -> 0 | H25: =SUM(H26:H29) -> 0 | I25: =SUM(I26:I29) -> 0 | J25: =SUM(J26:J29) -> 0 | K25: =SUM(K26:K29) -> 0 | L25: =SUM(L26:L29) -> 0 | ... P25: =SUM(P26:P29) -> 0
A26: 2.1.2.01.01.003.02.01 | B26: 8 | C26: C | D26: Maquinaria agropecuaria o silvícola y sus partes y piezas | E26: =+'ANEXO No 4'!E26+'ANEXO No 5'!E26+'ANEXO No 6 '!E26+'ANEXO No 7'!E26+'ANEXO No 8'!E26+'ANEXO No 9'!E26 -> 0 | F26: =+'ANEXO No 4'!F26+'ANEXO No 5'!F26+'ANEXO No 6 '!F26+'ANEXO No 7'!F26+'ANEXO No 8'!F26+'ANEXO No 9'!F26 -> 0 | G26: =+'ANEXO No 4'!G26+'ANEXO No 5'!G26+'ANEXO No 6 '!G26+'ANEXO No 7'!G26+'ANEXO No 8'!G26+'ANEXO No 9'!G26 -> 0 | H26: =+'ANEXO No 4'!H26+'ANEXO No 5'!H26+'ANEXO No 6 '!H26+'ANEXO No 7'!H26+'ANEXO No 8'!H26+'ANEXO No 9'!H26 -> 0 | I26: =+'ANEXO No 4'!I26+'ANEXO No 5'!I26+'ANEXO No 6 '!I26+'ANEXO No 7'!I26+'ANEXO No 8'!I26+'ANEXO No 9'!I26 -> 0 | J26: =+'ANEXO No 4'!J26+'ANEXO No 5'!J26+'ANEXO No 6 '!J26+'ANEXO No 7'!J26+'ANEXO No 8'!J26+'ANEXO No 9'!J26 -> 0 | K26: =+'ANEXO No 4'!O26+'ANEXO No 5'!O26+'ANEXO No 6 '!O26+'ANEXO No 7'!O26+'ANEXO No 8'!O26+'ANEXO No 9'!O26 -> 0 | L26: =+'ANEXO No 4'!P26+'ANEXO No 5'!P26+'ANEXO No 6 '!P26+'ANEXO No 7'!P26+'ANEXO No 8'!P26+'ANEXO No 9'!P26 -> 0 | M26: =+'ANEXO No 4'!U26+'ANEXO No 5'!U26+'ANEXO No 6 '!U26+'ANEXO No 7'!U26+'ANEXO No 8'!U26+'ANEXO No 9'!U26 -> 0 | N26: =+'ANEXO No 4'!Z26+'ANEXO No 5'!Z26+'ANEXO No 6 '!Z26+'ANEXO No 7'!Z26+'ANEXO No 8'!Z26+'ANEXO No 9'!Z26 -> 0 | O26: =+J26-K26 -> 0 | P26: =+J26-L26 -> 0
A27: 2.1.2.01.01.003.02.02 | B27: 8 | C27: C | D27: Máquinas herramientas y sus partes, piezas y accesorios | E27: =+'ANEXO No 4'!E27+'ANEXO No 5'!E27+'ANEXO No 6 '!E27+'ANEXO No 7'!E27+'ANEXO No 8'!E27+'ANEXO No 9'!E27 -> 0 | F27: =+'ANEXO No 4'!F27+'ANEXO No 5'!F27+'ANEXO No 6 '!F27+'ANEXO No 7'!F27+'ANEXO No 8'!F27+'ANEXO No 9'!F27 -> 0 | G27: =+'ANEXO No 4'!G27+'ANEXO No 5'!G27+'ANEXO No 6 '!G27+'ANEXO No 7'!G27+'ANEXO No 8'!G27+'ANEXO No 9'!G27 -> 0 | H27: =+'ANEXO No 4'!H27+'ANEXO No 5'!H27+'ANEXO No 6 '!H27+'ANEXO No 7'!H27+'ANEXO No 8'!H27+'ANEXO No 9'!H27 -> 0 | I27: =+'ANEXO No 4'!I27+'ANEXO No 5'!I27+'ANEXO No 6 '!I27+'ANEXO No 7'!I27+'ANEXO No 8'!I27+'ANEXO No 9'!I27 -> 0 | J27: =+'ANEXO No 4'!J27+'ANEXO No 5'!J27+'ANEXO No 6 '!J27+'ANEXO No 7'!J27+'ANEXO No 8'!J27+'ANEXO No 9'!J27 -> 0 | K27: =+'ANEXO No 4'!O27+'ANEXO No 5'!O27+'ANEXO No 6 '!O27+'ANEXO No 7'!O27+'ANEXO No 8'!O27+'ANEXO No 9'!O27 -> 0 | L27: =+'ANEXO No 4'!P27+'ANEXO No 5'!P27+'ANEXO No 6 '!P27+'ANEXO No 7'!P27+'ANEXO No 8'!P27+'ANEXO No 9'!P27 -> 0 | M27: =+'ANEXO No 4'!U27+'ANEXO No 5'!U27+'ANEXO No 6 '!U27+'ANEXO No 7'!U27+'ANEXO No 8'!U27+'ANEXO No 9'!U27 -> 0 | N27: =+'ANEXO No 4'!Z27+'ANEXO No 5'!Z27+'ANEXO No 6 '!Z27+'ANEXO No 7'!Z27+'ANEXO No 8'!Z27+'ANEXO No 9'!Z27 -> 0 | O27: =+J27-K27 -> 0 | P27: =+J27-L27 -> 0
A28: 2.1.2.01.01.003.02.05 | B28: 8 | C28: C | D28: Maquinaria para la elaboración de alimentos, bebidas y tabaco, y sus partes y piezas | E28: =+'ANEXO No 4'!E28+'ANEXO No 5'!E28+'ANEXO No 6 '!E28+'ANEXO No 7'!E28+'ANEXO No 8'!E28+'ANEXO No 9'!E28 -> 0 | F28: =+'ANEXO No 4'!F28+'ANEXO No 5'!F28+'ANEXO No 6 '!F28+'ANEXO No 7'!F28+'ANEXO No 8'!F28+'ANEXO No 9'!F28 -> 0 | G28: =+'ANEXO No 4'!G28+'ANEXO No 5'!G28+'ANEXO No 6 '!G28+'ANEXO No 7'!G28+'ANEXO No 8'!G28+'ANEXO No 9'!G28 -> 0 | H28: =+'ANEXO No 4'!H28+'ANEXO No 5'!H28+'ANEXO No 6 '!H28+'ANEXO No 7'!H28+'ANEXO No 8'!H28+'ANEXO No 9'!H28 -> 0 | I28: =+'ANEXO No 4'!I28+'ANEXO No 5'!I28+'ANEXO No 6 '!I28+'ANEXO No 7'!I28+'ANEXO No 8'!I28+'ANEXO No 9'!I28 -> 0 | J28: =+'ANEXO No 4'!J28+'ANEXO No 5'!J28+'ANEXO No 6 '!J28+'ANEXO No 7'!J28+'ANEXO No 8'!J28+'ANEXO No 9'!J28 -> 0 | K28: =+'ANEXO No 4'!O28+'ANEXO No 5'!O28+'ANEXO No 6 '!O28+'ANEXO No 7'!O28+'ANEXO No 8'!O28+'ANEXO No 9'!O28 -> 0 | L28: =+'ANEXO No 4'!P28+'ANEXO No 5'!P28+'ANEXO No 6 '!P28+'ANEXO No 7'!P28+'ANEXO No 8'!P28+'ANEXO No 9'!P28 -> 0 | M28: =+'ANEXO No 4'!U28+'ANEXO No 5'!U28+'ANEXO No 6 '!U28+'ANEXO No 7'!U28+'ANEXO No 8'!U28+'ANEXO No 9'!U28 -> 0 | N28: =+'ANEXO No 4'!Z28+'ANEXO No 5'!Z28+'ANEXO No 6 '!Z28+'ANEXO No 7'!Z28+'ANEXO No 8'!Z28+'ANEXO No 9'!Z28 -> 0 | O28: =+J28-K28 -> 0 | P28: =+J28-L28 -> 0
A29: 2.1.2.01.01.003.02.07 | B29: 8 | C29: C | D29: Aparatos de uso doméstico y sus partes y piezas | E29: =+'ANEXO No 4'!E29+'ANEXO No 5'!E29+'ANEXO No 6 '!E29+'ANEXO No 7'!E29+'ANEXO No 8'!E29+'ANEXO No 9'!E29 -> 0 | F29: =+'ANEXO No 4'!F29+'ANEXO No 5'!F29+'ANEXO No 6 '!F29+'ANEXO No 7'!F29+'ANEXO No 8'!F29+'ANEXO No 9'!F29 -> 0 | G29: =+'ANEXO No 4'!G29+'ANEXO No 5'!G29+'ANEXO No 6 '!G29+'ANEXO No 7'!G29+'ANEXO No 8'!G29+'ANEXO No 9'!G29 -> 0 | H29: =+'ANEXO No 4'!H29+'ANEXO No 5'!H29+'ANEXO No 6 '!H29+'ANEXO No 7'!H29+'ANEXO No 8'!H29+'ANEXO No 9'!H29 -> 0 | I29: =+'ANEXO No 4'!I29+'ANEXO No 5'!I29+'ANEXO No 6 '!I29+'ANEXO No 7'!I29+'ANEXO No 8'!I29+'ANEXO No 9'!I29 -> 0 | J29: =+'ANEXO No 4'!J29+'ANEXO No 5'!J29+'ANEXO No 6 '!J29+'ANEXO No 7'!J29+'ANEXO No 8'!J29+'ANEXO No 9'!J29 -> 0 | K29: =+'ANEXO No 4'!O29+'ANEXO No 5'!O29+'ANEXO No 6 '!O29+'ANEXO No 7'!O29+'ANEXO No 8'!O29+'ANEXO No 9'!O29 -> 0 | L29: =+'ANEXO No 4'!P29+'ANEXO No 5'!P29+'ANEXO No 6 '!P29+'ANEXO No 7'!P29+'ANEXO No 8'!P29+'ANEXO No 9'!P29 -> 0 | M29: =+'ANEXO No 4'!U29+'ANEXO No 5'!U29+'ANEXO No 6 '!U29+'ANEXO No 7'!U29+'ANEXO No 8'!U29+'ANEXO No 9'!U29 -> 0 | N29: =+'ANEXO No 4'!Z29+'ANEXO No 5'!Z29+'ANEXO No 6 '!Z29+'ANEXO No 7'!Z29+'ANEXO No 8'!Z29+'ANEXO No 9'!Z29 -> 0 | O29: =+J29-K29 -> 0 | P29: =+J29-L29 -> 0
A30: 2.1.2.01.01.003.03 | B30: 7 | C30: A | D30: Maquinaria de oficina, contabilidad e informática | E30: =SUM(E31) -> 2000000 | F30: =SUM(F31) -> 20000000 | G30: =SUM(G31) -> 0 | H30: =SUM(H31) -> 1500000 | I30: =SUM(I31) -> 0 | J30: =SUM(J31) -> 23500000 | K30: =SUM(K31) -> 23500000 | L30: =SUM(L31) -> 23500000 | ... P30: =SUM(P31) -> 0
A31: 2.1.2.01.01.003.03.02 | B31: 8 | C31: C | D31: Maquinaria de informática y sus partes, piezas y accesorios | E31: =+'ANEXO No 4'!E31+'ANEXO No 5'!E31+'ANEXO No 6 '!E31+'ANEXO No 7'!E31+'ANEXO No 8'!E31+'ANEXO No 9'!E31 -> 2000000 | F31: =+'ANEXO No 4'!F31+'ANEXO No 5'!F31+'ANEXO No 6 '!F31+'ANEXO No 7'!F31+'ANEXO No 8'!F31+'ANEXO No 9'!F31 -> 20000000 | G31: =+'ANEXO No 4'!G31+'ANEXO No 5'!G31+'ANEXO No 6 '!G31+'ANEXO No 7'!G31+'ANEXO No 8'!G31+'ANEXO No 9'!G31 -> 0 | H31: =+'ANEXO No 4'!H31+'ANEXO No 5'!H31+'ANEXO No 6 '!H31+'ANEXO No 7'!H31+'ANEXO No 8'!H31+'ANEXO No 9'!H31 -> 1500000 | I31: =+'ANEXO No 4'!I31+'ANEXO No 5'!I31+'ANEXO No 6 '!I31+'ANEXO No 7'!I31+'ANEXO No 8'!I31+'ANEXO No 9'!I31 -> 0 | J31: =+'ANEXO No 4'!J31+'ANEXO No 5'!J31+'ANEXO No 6 '!J31+'ANEXO No 7'!J31+'ANEXO No 8'!J31+'ANEXO No 9'!J31 -> 23500000 | K31: =+'ANEXO No 4'!O31+'ANEXO No 5'!O31+'ANEXO No 6 '!O31+'ANEXO No 7'!O31+'ANEXO No 8'!O31+'ANEXO No 9'!O31 -> 23500000 | L31: =+'ANEXO No 4'!P31+'ANEXO No 5'!P31+'ANEXO No 6 '!P31+'ANEXO No 7'!P31+'ANEXO No 8'!P31+'ANEXO No 9'!P31 -> 23500000 | M31: =+'ANEXO No 4'!U31+'ANEXO No 5'!U31+'ANEXO No 6 '!U31+'ANEXO No 7'!U31+'ANEXO No 8'!U31+'ANEXO No 9'!U31 -> 23500000 | N31: =+'ANEXO No 4'!Z31+'ANEXO No 5'!Z31+'ANEXO No 6 '!Z31+'ANEXO No 7'!Z31+'ANEXO No 8'!Z31+'ANEXO No 9'!Z31 -> 23500000 | O31: =+J31-K31 -> 0 | P31: =+J31-L31 -> 0
A32: 2.1.2.01.01.003.04 | B32: 7 | C32: A | D32: Maquinaria y aparatos eléctricos | E32: =SUM(E33:E38) -> 600000 | F32: =SUM(F33:F38) -> 0 | G32: =SUM(G33:G38) -> 0 | H32: =SUM(H33:H38) -> 0 | I32: =SUM(I33:I38) -> 0 | J32: =SUM(J33:J38) -> 600000 | K32: =SUM(K33:K38) -> 0 | L32: =SUM(L33:L38) -> 0 | ... P32: =SUM(P33:P38) -> 600000
A33: 2.1.2.01.01.003.04.01 | B33: 8 | C33: C | D33: Motores, generadores y transformadores eléctricos y sus partes y piezas | E33: =+'ANEXO No 4'!E33+'ANEXO No 5'!E33+'ANEXO No 6 '!E33+'ANEXO No 7'!E33+'ANEXO No 8'!E33+'ANEXO No 9'!E33 -> 0 | F33: =+'ANEXO No 4'!F33+'ANEXO No 5'!F33+'ANEXO No 6 '!F33+'ANEXO No 7'!F33+'ANEXO No 8'!F33+'ANEXO No 9'!F33 -> 0 | G33: =+'ANEXO No 4'!G33+'ANEXO No 5'!G33+'ANEXO No 6 '!G33+'ANEXO No 7'!G33+'ANEXO No 8'!G33+'ANEXO No 9'!G33 -> 0 | H33: =+'ANEXO No 4'!H33+'ANEXO No 5'!H33+'ANEXO No 6 '!H33+'ANEXO No 7'!H33+'ANEXO No 8'!H33+'ANEXO No 9'!H33 -> 0 | I33: =+'ANEXO No 4'!I33+'ANEXO No 5'!I33+'ANEXO No 6 '!I33+'ANEXO No 7'!I33+'ANEXO No 8'!I33+'ANEXO No 9'!I33 -> 0 | J33: =+'ANEXO No 4'!J33+'ANEXO No 5'!J33+'ANEXO No 6 '!J33+'ANEXO No 7'!J33+'ANEXO No 8'!J33+'ANEXO No 9'!J33 -> 0 | K33: =+'ANEXO No 4'!O33+'ANEXO No 5'!O33+'ANEXO No 6 '!O33+'ANEXO No 7'!O33+'ANEXO No 8'!O33+'ANEXO No 9'!O33 -> 0 | L33: =+'ANEXO No 4'!P33+'ANEXO No 5'!P33+'ANEXO No 6 '!P33+'ANEXO No 7'!P33+'ANEXO No 8'!P33+'ANEXO No 9'!P33 -> 0 | M33: =+'ANEXO No 4'!U33+'ANEXO No 5'!U33+'ANEXO No 6 '!U33+'ANEXO No 7'!U33+'ANEXO No 8'!U33+'ANEXO No 9'!U33 -> 0 | N33: =+'ANEXO No 4'!Z33+'ANEXO No 5'!Z33+'ANEXO No 6 '!Z33+'ANEXO No 7'!Z33+'ANEXO No 8'!Z33+'ANEXO No 9'!Z33 -> 0 | O33: =+J33-K33 -> 0 | P33: =+J33-L33 -> 0
A34: 2.1.2.01.01.003.04.02 | B34: 8 | C34: C | D34: Aparatos de control eléctrico y distribución de electricidad y sus partes y piezas | E34: =+'ANEXO No 4'!E34+'ANEXO No 5'!E34+'ANEXO No 6 '!E34+'ANEXO No 7'!E34+'ANEXO No 8'!E34+'ANEXO No 9'!E34 -> 0 | F34: =+'ANEXO No 4'!F34+'ANEXO No 5'!F34+'ANEXO No 6 '!F34+'ANEXO No 7'!F34+'ANEXO No 8'!F34+'ANEXO No 9'!F34 -> 0 | G34: =+'ANEXO No 4'!G34+'ANEXO No 5'!G34+'ANEXO No 6 '!G34+'ANEXO No 7'!G34+'ANEXO No 8'!G34+'ANEXO No 9'!G34 -> 0 | H34: =+'ANEXO No 4'!H34+'ANEXO No 5'!H34+'ANEXO No 6 '!H34+'ANEXO No 7'!H34+'ANEXO No 8'!H34+'ANEXO No 9'!H34 -> 0 | I34: =+'ANEXO No 4'!I34+'ANEXO No 5'!I34+'ANEXO No 6 '!I34+'ANEXO No 7'!I34+'ANEXO No 8'!I34+'ANEXO No 9'!I34 -> 0 | J34: =+'ANEXO No 4'!J34+'ANEXO No 5'!J34+'ANEXO No 6 '!J34+'ANEXO No 7'!J34+'ANEXO No 8'!J34+'ANEXO No 9'!J34 -> 0 | K34: =+'ANEXO No 4'!O34+'ANEXO No 5'!O34+'ANEXO No 6 '!O34+'ANEXO No 7'!O34+'ANEXO No 8'!O34+'ANEXO No 9'!O34 -> 0 | L34: =+'ANEXO No 4'!P34+'ANEXO No 5'!P34+'ANEXO No 6 '!P34+'ANEXO No 7'!P34+'ANEXO No 8'!P34+'ANEXO No 9'!P34 -> 0 | M34: =+'ANEXO No 4'!U34+'ANEXO No 5'!U34+'ANEXO No 6 '!U34+'ANEXO No 7'!U34+'ANEXO No 8'!U34+'ANEXO No 9'!U34 -> 0 | N34: =+'ANEXO No 4'!Z34+'ANEXO No 5'!Z34+'ANEXO No 6 '!Z34+'ANEXO No 7'!Z34+'ANEXO No 8'!Z34+'ANEXO No 9'!Z34 -> 0 | O34: =+J34-K34 -> 0 | P34: =+J34-L34 -> 0
A35: 2.1.2.01.01.003.04.03 | B35: 8 | C35: C | D35: Hilos y cables aislados; cable de fibra óptica | E35: =+'ANEXO No 4'!E35+'ANEXO No 5'!E35+'ANEXO No 6 '!E35+'ANEXO No 7'!E35+'ANEXO No 8'!E35+'ANEXO No 9'!E35 -> 0 | F35: =+'ANEXO No 4'!F35+'ANEXO No 5'!F35+'ANEXO No 6 '!F35+'ANEXO No 7'!F35+'ANEXO No 8'!F35+'ANEXO No 9'!F35 -> 0 | G35: =+'ANEXO No 4'!G35+'ANEXO No 5'!G35+'ANEXO No 6 '!G35+'ANEXO No 7'!G35+'ANEXO No 8'!G35+'ANEXO No 9'!G35 -> 0 | H35: =+'ANEXO No 4'!H35+'ANEXO No 5'!H35+'ANEXO No 6 '!H35+'ANEXO No 7'!H35+'ANEXO No 8'!H35+'ANEXO No 9'!H35 -> 0 | I35: =+'ANEXO No 4'!I35+'ANEXO No 5'!I35+'ANEXO No 6 '!I35+'ANEXO No 7'!I35+'ANEXO No 8'!I35+'ANEXO No 9'!I35 -> 0 | J35: =+'ANEXO No 4'!J35+'ANEXO No 5'!J35+'ANEXO No 6 '!J35+'ANEXO No 7'!J35+'ANEXO No 8'!J35+'ANEXO No 9'!J35 -> 0 | K35: =+'ANEXO No 4'!O35+'ANEXO No 5'!O35+'ANEXO No 6 '!O35+'ANEXO No 7'!O35+'ANEXO No 8'!O35+'ANEXO No 9'!O35 -> 0 | L35: =+'ANEXO No 4'!P35+'ANEXO No 5'!P35+'ANEXO No 6 '!P35+'ANEXO No 7'!P35+'ANEXO No 8'!P35+'ANEXO No 9'!P35 -> 0 | M35: =+'ANEXO No 4'!U35+'ANEXO No 5'!U35+'ANEXO No 6 '!U35+'ANEXO No 7'!U35+'ANEXO No 8'!U35+'ANEXO No 9'!U35 -> 0 | N35: =+'ANEXO No 4'!Z35+'ANEXO No 5'!Z35+'ANEXO No 6 '!Z35+'ANEXO No 7'!Z35+'ANEXO No 8'!Z35+'ANEXO No 9'!Z35 -> 0 | O35: =+J35-K35 -> 0 | P35: =+J35-L35 -> 0
A36: 2.1.2.01.01.003.04.04 | B36: 8 | C36: C | D36: Acumuladores, pilas y baterías primarias y sus partes y piezas | E36: =+'ANEXO No 4'!E36+'ANEXO No 5'!E36+'ANEXO No 6 '!E36+'ANEXO No 7'!E36+'ANEXO No 8'!E36+'ANEXO No 9'!E36 -> 600000 | F36: =+'ANEXO No 4'!F36+'ANEXO No 5'!F36+'ANEXO No 6 '!F36+'ANEXO No 7'!F36+'ANEXO No 8'!F36+'ANEXO No 9'!F36 -> 0 | G36: =+'ANEXO No 4'!G36+'ANEXO No 5'!G36+'ANEXO No 6 '!G36+'ANEXO No 7'!G36+'ANEXO No 8'!G36+'ANEXO No 9'!G36 -> 0 | H36: =+'ANEXO No 4'!H36+'ANEXO No 5'!H36+'ANEXO No 6 '!H36+'ANEXO No 7'!H36+'ANEXO No 8'!H36+'ANEXO No 9'!H36 -> 0 | I36: =+'ANEXO No 4'!I36+'ANEXO No 5'!I36+'ANEXO No 6 '!I36+'ANEXO No 7'!I36+'ANEXO No 8'!I36+'ANEXO No 9'!I36 -> 0 | J36: =+'ANEXO No 4'!J36+'ANEXO No 5'!J36+'ANEXO No 6 '!J36+'ANEXO No 7'!J36+'ANEXO No 8'!J36+'ANEXO No 9'!J36 -> 600000 | K36: =+'ANEXO No 4'!O36+'ANEXO No 5'!O36+'ANEXO No 6 '!O36+'ANEXO No 7'!O36+'ANEXO No 8'!O36+'ANEXO No 9'!O36 -> 0 | L36: =+'ANEXO No 4'!P36+'ANEXO No 5'!P36+'ANEXO No 6 '!P36+'ANEXO No 7'!P36+'ANEXO No 8'!P36+'ANEXO No 9'!P36 -> 0 | M36: =+'ANEXO No 4'!U36+'ANEXO No 5'!U36+'ANEXO No 6 '!U36+'ANEXO No 7'!U36+'ANEXO No 8'!U36+'ANEXO No 9'!U36 -> 0 | N36: =+'ANEXO No 4'!Z36+'ANEXO No 5'!Z36+'ANEXO No 6 '!Z36+'ANEXO No 7'!Z36+'ANEXO No 8'!Z36+'ANEXO No 9'!Z36 -> 0 | O36: =+J36-K36 -> 600000 | P36: =+J36-L36 -> 600000
A37: 2.1.2.01.01.003.04.05 | B37: 8 | C37: C | D37: Lámparas eléctricas de incandescencia o descarga; lámparas de arco, equipo para alumbrado eléctrico; sus partes y piezas | E37: =+'ANEXO No 4'!E37+'ANEXO No 5'!E37+'ANEXO No 6 '!E37+'ANEXO No 7'!E37+'ANEXO No 8'!E37+'ANEXO No 9'!E37 -> 0 | F37: =+'ANEXO No 4'!F37+'ANEXO No 5'!F37+'ANEXO No 6 '!F37+'ANEXO No 7'!F37+'ANEXO No 8'!F37+'ANEXO No 9'!F37 -> 0 | G37: =+'ANEXO No 4'!G37+'ANEXO No 5'!G37+'ANEXO No 6 '!G37+'ANEXO No 7'!G37+'ANEXO No 8'!G37+'ANEXO No 9'!G37 -> 0 | H37: =+'ANEXO No 4'!H37+'ANEXO No 5'!H37+'ANEXO No 6 '!H37+'ANEXO No 7'!H37+'ANEXO No 8'!H37+'ANEXO No 9'!H37 -> 0 | I37: =+'ANEXO No 4'!I37+'ANEXO No 5'!I37+'ANEXO No 6 '!I37+'ANEXO No 7'!I37+'ANEXO No 8'!I37+'ANEXO No 9'!I37 -> 0 | J37: =+'ANEXO No 4'!J37+'ANEXO No 5'!J37+'ANEXO No 6 '!J37+'ANEXO No 7'!J37+'ANEXO No 8'!J37+'ANEXO No 9'!J37 -> 0 | K37: =+'ANEXO No 4'!O37+'ANEXO No 5'!O37+'ANEXO No 6 '!O37+'ANEXO No 7'!O37+'ANEXO No 8'!O37+'ANEXO No 9'!O37 -> 0 | L37: =+'ANEXO No 4'!P37+'ANEXO No 5'!P37+'ANEXO No 6 '!P37+'ANEXO No 7'!P37+'ANEXO No 8'!P37+'ANEXO No 9'!P37 -> 0 | M37: =+'ANEXO No 4'!U37+'ANEXO No 5'!U37+'ANEXO No 6 '!U37+'ANEXO No 7'!U37+'ANEXO No 8'!U37+'ANEXO No 9'!U37 -> 0 | N37: =+'ANEXO No 4'!Z37+'ANEXO No 5'!Z37+'ANEXO No 6 '!Z37+'ANEXO No 7'!Z37+'ANEXO No 8'!Z37+'ANEXO No 9'!Z37 -> 0 | O37: =+J37-K37 -> 0 | P37: =+J37-L37 -> 0
A38: 2.1.2.01.01.003.04.06 | B38: 8 | C38: C | D38: Otro equipo eléctrico y sus partes y piezas | E38: =+'ANEXO No 4'!E38+'ANEXO No 5'!E38+'ANEXO No 6 '!E38+'ANEXO No 7'!E38+'ANEXO No 8'!E38+'ANEXO No 9'!E38 -> 0 | F38: =+'ANEXO No 4'!F38+'ANEXO No 5'!F38+'ANEXO No 6 '!F38+'ANEXO No 7'!F38+'ANEXO No 8'!F38+'ANEXO No 9'!F38 -> 0 | G38: =+'ANEXO No 4'!G38+'ANEXO No 5'!G38+'ANEXO No 6 '!G38+'ANEXO No 7'!G38+'ANEXO No 8'!G38+'ANEXO No 9'!G38 -> 0 | H38: =+'ANEXO No 4'!H38+'ANEXO No 5'!H38+'ANEXO No 6 '!H38+'ANEXO No 7'!H38+'ANEXO No 8'!H38+'ANEXO No 9'!H38 -> 0 | I38: =+'ANEXO No 4'!I38+'ANEXO No 5'!I38+'ANEXO No 6 '!I38+'ANEXO No 7'!I38+'ANEXO No 8'!I38+'ANEXO No 9'!I38 -> 0 | J38: =+'ANEXO No 4'!J38+'ANEXO No 5'!J38+'ANEXO No 6 '!J38+'ANEXO No 7'!J38+'ANEXO No 8'!J38+'ANEXO No 9'!J38 -> 0 | K38: =+'ANEXO No 4'!O38+'ANEXO No 5'!O38+'ANEXO No 6 '!O38+'ANEXO No 7'!O38+'ANEXO No 8'!O38+'ANEXO No 9'!O38 -> 0 | L38: =+'ANEXO No 4'!P38+'ANEXO No 5'!P38+'ANEXO No 6 '!P38+'ANEXO No 7'!P38+'ANEXO No 8'!P38+'ANEXO No 9'!P38 -> 0 | M38: =+'ANEXO No 4'!U38+'ANEXO No 5'!U38+'ANEXO No 6 '!U38+'ANEXO No 7'!U38+'ANEXO No 8'!U38+'ANEXO No 9'!U38 -> 0 | N38: =+'ANEXO No 4'!Z38+'ANEXO No 5'!Z38+'ANEXO No 6 '!Z38+'ANEXO No 7'!Z38+'ANEXO No 8'!Z38+'ANEXO No 9'!Z38 -> 0 | O38: =+J38-K38 -> 0 | P38: =+J38-L38 -> 0
A39: 2.1.2.01.01.003.05 | B39: 7 | C39: A | D39: Equipo y aparatos de radio, televisión y comunicaciones | E39: =SUM(E40:E42) -> 0 | F39: =SUM(F40:F42) -> 0 | G39: =SUM(G40:G42) -> 0 | H39: =SUM(H40:H42) -> 0 | I39: =SUM(I40:I42) -> 0 | J39: =SUM(J40:J42) -> 0 | K39: =SUM(K40:K42) -> 0 | L39: =SUM(L40:L42) -> 0 | ... P39: =SUM(P40:P42) -> 0
A40: 2.1.2.01.01.003.05.02 | B40: 8 | C40: C | D40: Aparatos transmisores de televisión y radio; televisión, video y cámaras digitales; teléfonos | E40: =+'ANEXO No 4'!E40+'ANEXO No 5'!E40+'ANEXO No 6 '!E40+'ANEXO No 7'!E40+'ANEXO No 8'!E40+'ANEXO No 9'!E40 -> 0 | F40: =+'ANEXO No 4'!F40+'ANEXO No 5'!F40+'ANEXO No 6 '!F40+'ANEXO No 7'!F40+'ANEXO No 8'!F40+'ANEXO No 9'!F40 -> 0 | G40: =+'ANEXO No 4'!G40+'ANEXO No 5'!G40+'ANEXO No 6 '!G40+'ANEXO No 7'!G40+'ANEXO No 8'!G40+'ANEXO No 9'!G40 -> 0 | H40: =+'ANEXO No 4'!H40+'ANEXO No 5'!H40+'ANEXO No 6 '!H40+'ANEXO No 7'!H40+'ANEXO No 8'!H40+'ANEXO No 9'!H40 -> 0 | I40: =+'ANEXO No 4'!I40+'ANEXO No 5'!I40+'ANEXO No 6 '!I40+'ANEXO No 7'!I40+'ANEXO No 8'!I40+'ANEXO No 9'!I40 -> 0 | J40: =+'ANEXO No 4'!J40+'ANEXO No 5'!J40+'ANEXO No 6 '!J40+'ANEXO No 7'!J40+'ANEXO No 8'!J40+'ANEXO No 9'!J40 -> 0 | K40: =+'ANEXO No 4'!O40+'ANEXO No 5'!O40+'ANEXO No 6 '!O40+'ANEXO No 7'!O40+'ANEXO No 8'!O40+'ANEXO No 9'!O40 -> 0 | L40: =+'ANEXO No 4'!P40+'ANEXO No 5'!P40+'ANEXO No 6 '!P40+'ANEXO No 7'!P40+'ANEXO No 8'!P40+'ANEXO No 9'!P40 -> 0 | M40: =+'ANEXO No 4'!U40+'ANEXO No 5'!U40+'ANEXO No 6 '!U40+'ANEXO No 7'!U40+'ANEXO No 8'!U40+'ANEXO No 9'!U40 -> 0 | N40: =+'ANEXO No 4'!Z40+'ANEXO No 5'!Z40+'ANEXO No 6 '!Z40+'ANEXO No 7'!Z40+'ANEXO No 8'!Z40+'ANEXO No 9'!Z40 -> 0 | O40: =+J40-K40 -> 0 | P40: =+J40-L40 -> 0
A41: 2.1.2.01.01.003.05.03 | B41: 8 | C41: C | D41: Radiorreceptores y receptores de televisión; aparatos para la grabación y reproducción de sonido y video; micrófonos, altavoces, amplificadores, etc. | E41: =+'ANEXO No 4'!E41+'ANEXO No 5'!E41+'ANEXO No 6 '!E41+'ANEXO No 7'!E41+'ANEXO No 8'!E41+'ANEXO No 9'!E41 -> 0 | F41: =+'ANEXO No 4'!F41+'ANEXO No 5'!F41+'ANEXO No 6 '!F41+'ANEXO No 7'!F41+'ANEXO No 8'!F41+'ANEXO No 9'!F41 -> 0 | G41: =+'ANEXO No 4'!G41+'ANEXO No 5'!G41+'ANEXO No 6 '!G41+'ANEXO No 7'!G41+'ANEXO No 8'!G41+'ANEXO No 9'!G41 -> 0 | H41: =+'ANEXO No 4'!H41+'ANEXO No 5'!H41+'ANEXO No 6 '!H41+'ANEXO No 7'!H41+'ANEXO No 8'!H41+'ANEXO No 9'!H41 -> 0 | I41: =+'ANEXO No 4'!I41+'ANEXO No 5'!I41+'ANEXO No 6 '!I41+'ANEXO No 7'!I41+'ANEXO No 8'!I41+'ANEXO No 9'!I41 -> 0 | J41: =+'ANEXO No 4'!J41+'ANEXO No 5'!J41+'ANEXO No 6 '!J41+'ANEXO No 7'!J41+'ANEXO No 8'!J41+'ANEXO No 9'!J41 -> 0 | K41: =+'ANEXO No 4'!O41+'ANEXO No 5'!O41+'ANEXO No 6 '!O41+'ANEXO No 7'!O41+'ANEXO No 8'!O41+'ANEXO No 9'!O41 -> 0 | L41: =+'ANEXO No 4'!P41+'ANEXO No 5'!P41+'ANEXO No 6 '!P41+'ANEXO No 7'!P41+'ANEXO No 8'!P41+'ANEXO No 9'!P41 -> 0 | M41: =+'ANEXO No 4'!U41+'ANEXO No 5'!U41+'ANEXO No 6 '!U41+'ANEXO No 7'!U41+'ANEXO No 8'!U41+'ANEXO No 9'!U41 -> 0 | N41: =+'ANEXO No 4'!Z41+'ANEXO No 5'!Z41+'ANEXO No 6 '!Z41+'ANEXO No 7'!Z41+'ANEXO No 8'!Z41+'ANEXO No 9'!Z41 -> 0 | O41: =+J41-K41 -> 0 | P41: =+J41-L41 -> 0
A42: 2.1.2.01.01.003.05.05 | B42: 8 | C42: C | D42: Discos, cintas, dispositivos de almacenamiento en estado sólido no volátiles y otros medios, no grabados | E42: =+'ANEXO No 4'!E42+'ANEXO No 5'!E42+'ANEXO No 6 '!E42+'ANEXO No 7'!E42+'ANEXO No 8'!E42+'ANEXO No 9'!E42 -> 0 | F42: =+'ANEXO No 4'!F42+'ANEXO No 5'!F42+'ANEXO No 6 '!F42+'ANEXO No 7'!F42+'ANEXO No 8'!F42+'ANEXO No 9'!F42 -> 0 | G42: =+'ANEXO No 4'!G42+'ANEXO No 5'!G42+'ANEXO No 6 '!G42+'ANEXO No 7'!G42+'ANEXO No 8'!G42+'ANEXO No 9'!G42 -> 0 | H42: =+'ANEXO No 4'!H42+'ANEXO No 5'!H42+'ANEXO No 6 '!H42+'ANEXO No 7'!H42+'ANEXO No 8'!H42+'ANEXO No 9'!H42 -> 0 | I42: =+'ANEXO No 4'!I42+'ANEXO No 5'!I42+'ANEXO No 6 '!I42+'ANEXO No 7'!I42+'ANEXO No 8'!I42+'ANEXO No 9'!I42 -> 0 | J42: =+'ANEXO No 4'!J42+'ANEXO No 5'!J42+'ANEXO No 6 '!J42+'ANEXO No 7'!J42+'ANEXO No 8'!J42+'ANEXO No 9'!J42 -> 0 | K42: =+'ANEXO No 4'!O42+'ANEXO No 5'!O42+'ANEXO No 6 '!O42+'ANEXO No 7'!O42+'ANEXO No 8'!O42+'ANEXO No 9'!O42 -> 0 | L42: =+'ANEXO No 4'!P42+'ANEXO No 5'!P42+'ANEXO No 6 '!P42+'ANEXO No 7'!P42+'ANEXO No 8'!P42+'ANEXO No 9'!P42 -> 0 | M42: =+'ANEXO No 4'!U42+'ANEXO No 5'!U42+'ANEXO No 6 '!U42+'ANEXO No 7'!U42+'ANEXO No 8'!U42+'ANEXO No 9'!U42 -> 0 | N42: =+'ANEXO No 4'!Z42+'ANEXO No 5'!Z42+'ANEXO No 6 '!Z42+'ANEXO No 7'!Z42+'ANEXO No 8'!Z42+'ANEXO No 9'!Z42 -> 0 | O42: =+J42-K42 -> 0 | P42: =+J42-L42 -> 0
A43: 2.1.2.01.01.004 | B43: 6 | C43: A | D43: Activos fijos no clasificados como maquinaria y equipo | E43: =+E44 -> 2000000 | F43: =+F44 -> 10000000 | G43: =+G44 -> 0 | H43: =+H44 -> 0 | I43: =+I44 -> 0 | J43: =+J44 -> 12000000 | K43: =+K44 -> 9000000 | L43: =+L44 -> 9000000 | ... P43: =+P44 -> 3000000
A44: 2.1.2.01.01.004.01 | B44: 7 | C44: A | D44: Muebles, instrumentos musicales, artículos de deporte y antigüedades | E44: =+E45+E51+E52 -> 2000000 | F44: =+F45+F51+F52 -> 10000000 | G44: =+G45+G51+G52 -> 0 | H44: =+H45+H51+H52 -> 0 | I44: =+I45+I51+I52 -> 0 | J44: =+J45+J51+J52 -> 12000000 | K44: =+K45+K51+K52 -> 9000000 | L44: =+L45+L51+L52 -> 9000000 | ... P44: =+P45+P51+P52 -> 3000000
...

Sheet ANEXO No 3
A1: ='ANEXO No 1'!A1:T1 -> INSTITUCIÓN EDUCATIVA SANTA ANA
A2: ='ANEXO No 1'!A2:T2 -> MUNICIPIO DE COLOMBIA- HUILA
A3: ='ANEXO No 1'!A3:T3 -> NIT: 813.007.522-4
A4: ='ANEXO No 1'!A4:T4 -> CODIGO DANE No.241206001078
A5: ='ANEXO No 1'!A5:T5 -> DIRECCION: VEREDA SANTA ANA
A7: ANEXO No 3.
A8: RELACION DE RECAUDOS EFECTIVOS
A9: ='ANEXO No 1'!A9:T9 -> VIGENCIA 2025
N11: TRIM. 1 | O11: ='ANEXO No 1'!H11 -> 0 | P11: TRIM. 2 | Q11: ='ANEXO No 1'!J11 -> 0 | R11: TRIM. 3 | S11: ='ANEXO No 1'!M11 -> 0 | T11: TRIM. 4 | U11: =+'ANEXO No 1'!O11 -> X
F15: VENTA DE BIENES Y SERVICIOS | J15: TRANFERENCIAS CORRIENTES | Q15: INGRESOS RECURSOS DE CAPITAL
J16: Participación para educación | K16: Transferencias de otras entidades del gobierno general | L16: TRANSFERENCIAS DEPARTAMENTALES | O16: TRANSFERENCIAS MUNICIPALES
A17: Item | B17: Fecha de Giro | C17: Nombre de persona o entidad que realiza el pago | D17: Concepto del recaudo | E17: Documento Recaudo | F17: Agricultura, silvicultura y productos de la pesca | G17: Servicios de alojamiento; servicios de suministro de comidas y bebidas; servicios de transporte; y servicios de distribución de electricidad, gas y agua | H17: Servicios financieros y servicios conexos, servicios inmobiliarios y servicios de leasing | I17: Servicios para la comunidad, sociales y personales | J17: Calidad por gratuidad | K17: Aportes Nación | L17: Calidad Departamento SGP | M17: Recursos Propios Departamentales | N17: Otros Aportes Departamentales | O17: Calidad Municipio SGP | P17: Otros Aportes Municipales | Q17: Disposición de maquinaria y equipo | R17: Rendimientos - Gratuidad | S17: Rendimientos - Recursos Propios | T17: Rendimientos - Calidad | U17: Rendimientos - Otras fuentes | V17: Donaciones | W17: Indemnización pólizas | X17: Resarcimiento por procesos de gestión fiscal | Y17: Superávit - Gratuidad | Z17: Superávit - Recursos Propios | AA17: Superávit - Calidad | AB17: Superávit - Otras fuentes | AC17: Reintegros - Gratuidad | AD17: Reintegros - Recursos Propios | AE17: Reintegros - Calidad | AF17: Reintegros - Otras fuentes | AG17: Porcentaje Utilidad alquiler | AH17: Alquiler beneficiadero de café | AI17: Cuentas por cobrar no adionadas en el superávit fiscal | AJ17: TOTAL GIRADO
A18: 1 | B18: 45688 | C18: INSTITUCION EDUCATIVA SANTA ANA | D18: SUPERAVIT 2024 | E18: ACUERDO N 1 | Y18: 2040931.4 | AA18: 5750085 | AJ18: =SUM(F18:AI18) -> 7791016.4
A19: 2 | B19: 45688 | C19: BANCO AGRARIO | D19: RENDIMIENTOS FINANCIEROS MES ENERO | E19: EXTRACTO ENERO | R19: 2444 | T19: 6884 | AJ19: =SUM(F19:AI19) -> 9328
A20: 3 | B20: 45716 | C20: BANCO AGRARIO | D20: RENDIMIENTOS FINANCIEROS MES FEBRERO | E20: EXTRACTO FEBRERO | R20: 2114 | T20: 5955 | AJ20: =SUM(F20:AI20) -> 8069
A21: 4 | B21: 45721 | C21: GOBERNACION DEL HUILA | D21: APORTE DEPARATAMENTO SGP SEGÚN RESOLUCION 1156 DE 2025 | E21: RESOLUCION 1156 DE 2025 | L21: 27282342 | AJ21: =SUM(F21:AI21) -> 27282342
A22: 5 | B22: 45735 | C22: FABIO ORTIGOZA TORRES | D22: INGRESO POR CONCEPTO DE DONACION PARA ACTIVACION DE LA CUENTA DE RECURSOS PROPIOS | E22: EXTRACTO | V22: 10000 | AJ22: =SUM(F22:AI22) -> 10000
A23: 6 | B23: 45747 | C23: MINISTERIO DE EDUCACION NACIONAL | D23: APORTE MINISTERIO DE EDUCACION SEGÚN RESOLUCION 006171 DE 2025 | E23: RESOLUCION 006171 DE 2025 | J23: 88783516 | AJ23: =SUM(F23:AI23) -> 88783516
A24: 7 | B24: 45747 | C24: BANCO AGRARIO | D24: RENDIMIENTOS MES MARZO | E24: EXTRACTO MARZO | R24: 34271 | T24: 12464 | AJ24: =SUM(F24:AI24) -> 46735
A25: 8 | B25: 45777 | C25: BANCO AGRARIO | D25: RENDIMIENTOS MES ABRIL | E25: EXTRACTO ABRIL | R25: 138169 | T25: 50251 | AJ25: =SUM(F25:AI25) -> 188420
A26: 9 | B26: 45808 | C26: BANCO AGRARIO | D26: RENDIMIENTOS MES MAYO | E26: EXTRACTO MAYO | R26: 142709 | T26: 51903 | AJ26: =SUM(F26:AI26) -> 194612
A27: 10 | B27: 45838 | C27: BANCO AGRARIO | D27: RENDIMIENTOS MES JUNIO | E27: EXTRACTO JUNIO | R27: =114624+342 -> 114966 | T27: 42839 | AJ27: =SUM(F27:AI27) -> 157805
A28: 11 | B28: 45811 | C28: GOBERNACION DEL HUILA | D28: INGRESOS DE APORTE DEPARTAMENTO SGP SEGU RESOLUCION N 4483 DEL 19 DE MAYO DE 2025 | E28: RESOLUCION N 4483 DEL 19 DE MAYO DE 2025 | L28: 663465 | AJ28: =SUM(F28:AI28) -> 663465
A29: 12 | B29: 45812 | C29: CAROLINA MANCHOLA PLAZAS | D29: RECAUDO VALOR PENDIENTE POR CANCELAR DE FACTURA DE 2024 | E29: EXTYRACTO BANCARIO JUNIO | AI29: 3720 | AJ29: =SUM(F29:AI29) -> 3720
A30: 13 | B30: 45863 | C30: ALCALDIA DE COLOMBIA | D30: APORTE MUNCIIPIO SEGUN RESOLUCION N 102 DE 2025 | E30: RESOLUCION N 102 DE 2025 | O30: 15000000 | AJ30: =SUM(F30:AI30) -> 15000000
A31: 14 | B31: 45848 | C31: GOBERNACION DEL HUILA | D31: CAUSACION INGRESOS RESOLUCION N 1156 DE 2025 GOBERNACION DEL HUILA | E31: RESOLUCION N 1156 DE 2025 | L31: 27282342 | AJ31: =SUM(F31:AI31) -> 27282342
A32: 15 | B32: 45868 | C32: BANCO AGRARIO | D32: RENDIMIENTOS MES JULIO | E32: EXTRACTO JULIO | R32: 146928 | S32: 16 | T32: 54510 | AJ32: =SUM(F32:AI32) -> 201454
A33: 16 | B33: 45900 | C33: BANCO AGRARIO | D33: RENDIMIENTOS MES AGOSTO | E33: EXTRACTOAGOSTO | R33: 164381 | S33: 18 | T33: 60986 | AJ33: =SUM(F33:AI33) -> 225385
A34: 17 | B34: 45930 | C34: BANCO AGRARIO | D34: RENDIMIENTOS MES SEPTIEMBRE | E34: EXTRACTO SEPTEIMBRE | R34: 134351 | S34: 15 | T34: 49844 | AJ34: =SUM(F34:AI34) -> 184210
A35: 18 | B35: 45938 | C35: FABIO ORTIGOZA TORRES | D35: INGRESO POR CONCEPTO DE DONACION PARA ACTIVACION DE LA CUENTA DE RECURSOS PROPIOS | E35: EXTRACTO BANCARIO OCTUBRE | V35: 5000 | AJ35: =SUM(F35:AI35) -> 5000
A36: 19 | B36: 45961 | C36: BANCO AGRARIO | D36: RENDIMIENTOS OCTUBRE | E36: EXTRACTO BANCARIO OCTUBRE | R36: 117748 | S36: 13 | T36: 43684 | AJ36: =SUM(F36:AI36) -> 161445
A37: 19 | B37: 45991 | C37: BANCO AGRARIO | D37: RENDIMIENTOS NOVIEMBRE | E37: EXTRACTO BANCARIO NOVIEMBRE | R37: 36223 | S37: 4 | T37: 13439 | AJ37: =SUM(F37:AI37) -> 49666
A38: 20 | B38: 46022 | C38: BANCO AGRARIO | D38: RENDIMIENTOS DICIEMBRE | E38: EXTRACTO BANCARIO DICIEMBRE | R38: 21270 | S38: 2 | T38: 7891 | AJ38: =SUM(F38:AI38) -> 29163
A39: 21 | AJ39: =SUM(F39:AI39) -> 0
A40: 22 | AJ40: =SUM(F40:AI40) -> 0
A41: 23 | AJ41: =SUM(F41:AI41) -> 0
A42: 24 | AJ42: =SUM(F42:AI42) -> 0
A43: 25 | AJ43: =SUM(F43:AI43) -> 0
A44: 26 | AJ44: =SUM(F44:AI44) -> 0
A45: 27 | AJ45: =SUM(F45:AI45) -> 0
...

Sheet ANEXO No 4
A1: ='ANEXO No 1'!A1:T1 -> INSTITUCIÓN EDUCATIVA SANTA ANA
A2: ='ANEXO No 1'!A2:T2 -> MUNICIPIO DE COLOMBIA- HUILA
A3: ='ANEXO No 1'!A3:T3 -> NIT: 813.007.522-4
A4: ='ANEXO No 1'!A4:T4 -> CODIGO DANE No.241206001078
A5: ='ANEXO No 1'!A5:T5 -> DIRECCION: VEREDA SANTA ANA
A7: ANEXO No 4
A8: EJECUCION PRESUPUESTO DE GASTOS E INVERSIÓN DE RECURSOS DE GRATUIDAD
A9: ='ANEXO No 1'!A9:T9 -> VIGENCIA 2025
J11: TRIM. 1° | K11: ='ANEXO No 1'!H11 -> 0 | L11: TRIM. 2 | M11: ='ANEXO No 1'!J11 -> 0 | N11: TRIM. 3 | O11: ='ANEXO No 1'!M11 -> 0 | P11: TRIM. 4 | Q11: ='ANEXO No 1'!O11 -> X
A14: CÓDIGO COMPLETO | B14: NIVEL | C14: TIPO | D14: NOMBRE DE LA CUENTA | E14: VALOR APROPIADO INICIAL | F14: MODIFICACIONES | J14: VALOR APROPIADO DEFINITIVO | K14: CERTIFICADOS DISPONIBILIDAD (CDP) | P14: REGISTRO PRESUPUESTAL (RP) | Q14: OBLIGACIONES | V14: PAGOS | AA14: VR. NO EJECUTADO
F15: ADICIONES | G15: REDUCCIONES | H15: CREDITOS | I15: CONTRACREDITOS | K15: TRIMESTRE 1 | L15: TRIMESTRE 2 | M15: TRIMESTRE 3 | N15: TRIMESTRE 4 | O15: ACUMULADO | Q15: TRIMESTRE 1 | R15: TRIMESTRE 2 | S15: TRIMESTRE 3 | T15: TRIMESTRE 4 | U15: ACUMULADO | V15: TRIMESTRE 1 | W15: TRIMESTRE 2 | X15: TRIMESTRE 3 | Y15: TRIMESTRE 4 | Z15: ACUMULADO
A16: 2 | B16: 1 | C16: A | D16: Gastos | E16: =+E17 -> 30000000 | F16: =+F17 -> 58783516 | G16: =+G17 -> 0 | H16: =+H17 -> 2000000 | I16: =+I17 -> 2000000 | J16: =+J17 -> 88783516 | K16: =+K17 -> 0 | L16: =+L17 -> 10200000 | ... AA16: =+AA17 -> 9496064
A17: 2.1 | B17: 2 | C17: A | D17: Funcionamiento | E17: =+E18+E112 -> 30000000 | F17: =+F18+F112 -> 58783516 | G17: =+G18+G112 -> 0 | H17: =+H18+H112 -> 2000000 | I17: =+I18+I112 -> 2000000 | J17: =+J18+J112 -> 88783516 | K17: =+K18+K112 -> 0 | L17: =+L18+L112 -> 10200000 | ... AA17: =+AA18+AA112 -> 9496064
A18: 2.1.2 | B18: 3 | C18: A | D18: Adquisición de bienes y servicios | E18: =+E19+E65 -> 30000000 | F18: =+F19+F65 -> 58783516 | G18: =+G19+G65 -> 0 | H18: =+H19+H65 -> 2000000 | I18: =+I19+I65 -> 2000000 | J18: =+J19+J65 -> 88783516 | K18: =+K19+K65 -> 0 | L18: =+L19+L65 -> 10200000 | ... AA18: =+AA19+AA65 -> 9496064
A19: 2.1.2.01 | B19: 4 | C19: A | D19: Adquisición de activos no financieros | E19: =+E20+E43+E53 -> 4600000 | F19: =+F20+F43+F53 -> 29000000 | G19: =+G20+G43+G53 -> 0 | H19: =+H20+H43+H53 -> 1500000 | I19: =+I20+I43+I53 -> 0 | J19: =+J20+J43+J53 -> 35100000 | K19: =+K20+K43+K53 -> 0 | L19: =+L20+L43+L53 -> 0 | ... AA19: =+AA20+AA43+AA53 -> 3600000
A20: 2.1.2.01.01 | B20: 5 | C20: A | D20: Activos Fijos | E20: =+E21 -> 2600000 | F20: =+F21 -> 20000000 | G20: =+G21 -> 0 | H20: =+H21 -> 1500000 | I20: =+I21 -> 0 | J20: =+J21 -> 24100000 | K20: =+K21 -> 0 | L20: =+L21 -> 0 | ... AA20: =+AA21 -> 600000
A21: 2.1.2.01.01.003 | B21: 6 | C21: A | D21: Maquinaria y equipo | E21: =+E22+E25+E30+E32+E39 -> 2600000 | F21: =+F22+F25+F30+F32+F39 -> 20000000 | G21: =+G22+G25+G30+G32+G39 -> 0 | H21: =+H22+H25+H30+H32+H39 -> 1500000 | I21: =+I22+I25+I30+I32+I39 -> 0 | J21: =+J22+J25+J30+J32+J39 -> 24100000 | K21: =+K22+K25+K30+K32+K39 -> 0 | L21: =+L22+L25+L30+L32+L39 -> 0 | ... AA21: =+AA22+AA25+AA30+AA32+AA39 -> 600000
A22: 2.1.2.01.01.003.01 | B22: 7 | C22: A | D22: Maquinaria para uso general | E22: =SUM(E23:E24) -> 0 | F22: =SUM(F23:F24) -> 0 | G22: =SUM(G23:G24) -> 0 | H22: =SUM(H23:H24) -> 0 | I22: =SUM(I23:I24) -> 0 | J22: =SUM(J23:J24) -> 0 | K22: =SUM(K23:K24) -> 0 | L22: =SUM(L23:L24) -> 0 | ... AA22: =SUM(AA23:AA24) -> 0
A23: 2.1.2.01.01.003.01.02 | B23: 8 | C23: C | D23: Bombas, compresores, motores de fuerza hidráulica y motores de potencia neumática y válvulas y sus partes y piezas | J23: =+E23+F23-G23+H23-I23 -> 0 | O23: =SUM(K23:N23) -> 0 | P23: =+'ANEXO No 4A'!I23 -> 0 | U23: =SUM(Q23:T23) -> 0 | Z23: =SUM(V23:Y23) -> 0 | AA23: =+J23-P23 -> 0
A24: 2.1.2.01.01.003.01.06 | B24: 8 | C24: C | D24: Otras máquinas para usos generales y sus partes y piezas | J24: =+E24+F24-G24+H24-I24 -> 0 | O24: =SUM(K24:N24) -> 0 | P24: =+'ANEXO No 4A'!I36 -> 0 | U24: =SUM(Q24:T24) -> 0 | Z24: =SUM(V24:Y24) -> 0 | AA24: =+J24-P24 -> 0
A25: 2.1.2.01.01.003.02 | B25: 7 | C25: A | D25: Maquinaria para usos especiales | E25: =SUM(E26:E29) -> 0 | F25: =SUM(F26:F29) -> 0 | G25: =SUM(G26:G29) -> 0 | H25: =SUM(H26:H29) -> 0 | I25: =SUM(I26:I29) -> 0 | J25: =SUM(J26:J29) -> 0 | K25: =SUM(K26:K29) -> 0 | L25: =SUM(L26:L29) -> 0 | ... AA25: =SUM(AA26:AA29) -> 0
A26: 2.1.2.01.01.003.02.01 | B26: 8 | C26: C | D26: Maquinaria agropecuaria o silvícola y sus partes y piezas | J26: =+E26+F26-G26+H26-I26 -> 0 | O26: =SUM(K26:N26) -> 0 | P26: =+'ANEXO No 4A'!I49 -> 0 | U26: =SUM(Q26:T26) -> 0 | Z26: =SUM(V26:Y26) -> 0 | AA26: =+J26-P26 -> 0
A27: 2.1.2.01.01.003.02.02 | B27: 8 | C27: C | D27: Máquinas herramientas y sus partes, piezas y accesorios | J27: =+E27+F27-G27+H27-I27 -> 0 | O27: =SUM(K27:N27) -> 0 | P27: =+'ANEXO No 4A'!I62 -> 0 | U27: =SUM(Q27:T27) -> 0 | Z27: =SUM(V27:Y27) -> 0 | AA27: =+J27-P27 -> 0
A28: 2.1.2.01.01.003.02.05 | B28: 8 | C28: C | D28: Maquinaria para la elaboración de alimentos, bebidas y tabaco, y sus partes y piezas | J28: =+E28+F28-G28+H28-I28 -> 0 | O28: =SUM(K28:N28) -> 0 | P28: =+'ANEXO No 4A'!I75 -> 0 | U28: =SUM(Q28:T28) -> 0 | Z28: =SUM(V28:Y28) -> 0 | AA28: =+J28-P28 -> 0
A29: 2.1.2.01.01.003.02.07 | B29: 8 | C29: C | D29: Aparatos de uso doméstico y sus partes y piezas | J29: =+E29+F29-G29+H29-I29 -> 0 | O29: =SUM(K29:N29) -> 0 | P29: =+'ANEXO No 4A'!I88 -> 0 | U29: =SUM(Q29:T29) -> 0 | Z29: =SUM(V29:Y29) -> 0 | AA29: =+J29-P29 -> 0
A30: 2.1.2.01.01.003.03 | B30: 7 | C30: A | D30: Maquinaria de oficina, contabilidad e informática | E30: =SUM(E31) -> 2000000 | F30: =SUM(F31) -> 20000000 | G30: =SUM(G31) -> 0 | H30: =SUM(H31) -> 1500000 | I30: =SUM(I31) -> 0 | J30: =SUM(J31) -> 23500000 | K30: =SUM(K31) -> 0 | L30: =SUM(L31) -> 0 | ... AA30: =SUM(AA31) -> 0
A31: 2.1.2.01.01.003.03.02 | B31: 8 | C31: C | D31: Maquinaria de informática y sus partes, piezas y accesorios | E31: 2000000 | F31: 20000000 | H31: 1500000 | J31: =+E31+F31-G31+H31-I31 -> 23500000 | N31: 23500000 | O31: =SUM(K31:N31) -> 23500000 | P31: =+'ANEXO No 4A'!I101 -> 23500000 | T31: 23500000 | U31: =SUM(Q31:T31) -> 23500000 | Y31: 23500000 | Z31: =SUM(V31:Y31) -> 23500000 | AA31: =+J31-P31 -> 0
A32: 2.1.2.01.01.003.04 | B32: 7 | C32: A | D32: Maquinaria y aparatos eléctricos | E32: =SUM(E33:E38) -> 600000 | F32: =SUM(F33:F38) -> 0 | G32: =SUM(G33:G38) -> 0 | H32: =SUM(H33:H38) -> 0 | I32: =SUM(I33:I38) -> 0 | J32: =SUM(J33:J38) -> 600000 | K32: =SUM(K33:K38) -> 0 | L32: =SUM(L33:L38) -> 0 | ... AA32: =SUM(AA33:AA38) -> 600000
A33: 2.1.2.01.01.003.04.01 | B33: 8 | C33: C | D33: Motores, generadores y transformadores eléctricos y sus partes y piezas | J33: =+E33+F33-G33+H33-I33 -> 0 | O33: =SUM(K33:N33) -> 0 | P33: =+'ANEXO No 4A'!I114 -> 0 | U33: =SUM(Q33:T33) -> 0 | Z33: =SUM(V33:Y33) -> 0 | AA33: =+J33-P33 -> 0
A34: 2.1.2.01.01.003.04.02 | B34: 8 | C34: C | D34: Aparatos de control eléctrico y distribución de electricidad y sus partes y piezas | J34: =+E34+F34-G34+H34-I34 -> 0 | O34: =SUM(K34:N34) -> 0 | P34: =+'ANEXO No 4A'!I127 -> 0 | U34: =SUM(Q34:T34) -> 0 | Z34: =SUM(V34:Y34) -> 0 | AA34: =+J34-P34 -> 0
A35: 2.1.2.01.01.003.04.03 | B35: 8 | C35: C | D35: Hilos y cables aislados; cable de fibra óptica | J35: =+E35+F35-G35+H35-I35 -> 0 | O35: =SUM(K35:N35) -> 0 | P35: =+'ANEXO No 4A'!I140 -> 0 | U35: =SUM(Q35:T35) -> 0 | Z35: =SUM(V35:Y35) -> 0 | AA35: =+J35-P35 -> 0
A36: 2.1.2.01.01.003.04.04 | B36: 8 | C36: C | D36: Acumuladores, pilas y baterías primarias y sus partes y piezas | E36: 600000 | J36: =+E36+F36-G36+H36-I36 -> 600000 | O36: =SUM(K36:N36) -> 0 | P36: =+'ANEXO No 4A'!I153 -> 0 | U36: =SUM(Q36:T36) -> 0 | Z36: =SUM(V36:Y36) -> 0 | AA36: =+J36-P36 -> 600000
A37: 2.1.2.01.01.003.04.05 | B37: 8 | C37: C | D37: Lámparas eléctricas de incandescencia o descarga; lámparas de arco, equipo para alumbrado eléctrico; sus partes y piezas | J37: =+E37+F37-G37+H37-I37 -> 0 | O37: =SUM(K37:N37) -> 0 | P37: =+'ANEXO No 4A'!I166 -> 0 | U37: =SUM(Q37:T37) -> 0 | Z37: =SUM(V37:Y37) -> 0 | AA37: =+J37-P37 -> 0
A38: 2.1.2.01.01.003.04.06 | B38: 8 | C38: C | D38: Otro equipo eléctrico y sus partes y piezas | J38: =+E38+F38-G38+H38-I38 -> 0 | O38: =SUM(K38:N38) -> 0 | P38: =+'ANEXO No 4A'!I179 -> 0 | U38: =SUM(Q38:T38) -> 0 | Z38: =SUM(V38:Y38) -> 0 | AA38: =+J38-P38 -> 0
A39: 2.1.2.01.01.003.05 | B39: 7 | C39: A | D39: Equipo y aparatos de radio, televisión y comunicaciones | E39: =SUM(E40:E42) -> 0 | F39: =SUM(F40:F42) -> 0 | G39: =SUM(G40:G42) -> 0 | H39: =SUM(H40:H42) -> 0 | I39: =SUM(I40:I42) -> 0 | J39: =SUM(J40:J42) -> 0 | K39: =SUM(K40:K42) -> 0 | L39: =SUM(L40:L42) -> 0 | ... AA39: =SUM(AA40:AA42) -> 0
A40: 2.1.2.01.01.003.05.02 | B40: 8 | C40: C | D40: Aparatos transmisores de televisión y radio; televisión, video y cámaras digitales; teléfonos | J40: =+E40+F40-G40+H40-I40 -> 0 | O40: =SUM(K40:N40) -> 0 | P40: =+'ANEXO No 4A'!I192 -> 0 | U40: =SUM(Q40:T40) -> 0 | Z40: =SUM(V40:Y40) -> 0 | AA40: =+J40-P40 -> 0
A41: 2.1.2.01.01.003.05.03 | B41: 8 | C41: C | D41: Radiorreceptores y receptores de televisión; aparatos para la grabación y reproducción de sonido y video; micrófonos, altavoces, amplificadores, etc. | J41: =+E41+F41-G41+H41-I41 -> 0 | O41: =SUM(K41:N41) -> 0 | P41: =+'ANEXO No 4A'!I205 -> 0 | U41: =SUM(Q41:T41) -> 0 | Z41: =SUM(V41:Y41) -> 0 | AA41: =+J41-P41 -> 0
A42: 2.1.2.01.01.003.05.05 | B42: 8 | C42: C | D42: Discos, cintas, dispositivos de almacenamiento en estado sólido no volátiles y otros medios, no grabados | J42: =+E42+F42-G42+H42-I42 -> 0 | O42: =SUM(K42:N42) -> 0 | P42: =+'ANEXO No 4A'!I218 -> 0 | U42: =SUM(Q42:T42) -> 0 | Z42: =SUM(V42:Y42) -> 0 | AA42: =+J42-P42 -> 0
A43: 2.1.2.01.01.004 | B43: 6 | C43: A | D43: Activos fijos no clasificados como maquinaria y equipo | E43: =+E44 -> 2000000 | F43: =+F44 -> 9000000 | G43: =+G44 -> 0 | H43: =+H44 -> 0 | I43: =+I44 -> 0 | J43: =+J44 -> 11000000 | K43: =+K44 -> 0 | L43: =+L44 -> 0 | ... AA43: =+AA44 -> 3000000
A44: 2.1.2.01.01.004.01 | B44: 7 | C44: A | D44: Muebles, instrumentos musicales, artículos de deporte y antigüedades | E44: =+E45+E51+E52 -> 2000000 | F44: =+F45+F51+F52 -> 9000000 | G44: =+G45+G51+G52 -> 0 | H44: =+H45+H51+H52 -> 0 | I44: =+I45+I51+I52 -> 0 | J44: =+J45+J51+J52 -> 11000000 | K44: =+K45+K51+K52 -> 0 | L44: =+L45+L51+L52 -> 0 | ... AA44: =+AA45+AA51+AA52 -> 3000000
...

Sheet ANEXO No 4A
A1: ='ANEXO No 1'!A1:T1 -> INSTITUCIÓN EDUCATIVA SANTA ANA
A2: ='ANEXO No 1'!A2:T2 -> MUNICIPIO DE COLOMBIA- HUILA
A3: ='ANEXO No 1'!A3:T3 -> NIT: 813.007.522-4
A4: ='ANEXO No 1'!A4:T4 -> CODIGO DANE No.241206001078
A5: ='ANEXO No 1'!A5:T5 -> DIRECCION: VEREDA SANTA ANA
A7: ANEXO No 4A
A8: RELACION DETALLADA DE GASTOS E INVERSIÓN APLICADOS A RECURSOS DE GRATUIDAD
A9: ='ANEXO No 1'!A9:T9 -> VIGENCIA 2025
P10: SIFSE
A11: RUBRO PRESUPUESTAL: 2.1.2.01.01.003.01.02 Bombas, compresores, motores de fuerza hidráulica y motores de potencia neumática y válvulas y sus partes y piezas | P11: FUENTE INGRESO SIFSE | Q11: ITEM DETALLE | R11: VALOR
A12: No. CONTRATO | B12: FECHA CONTRATO | C12: No. RP | D12: FECHA RP | E12: FUENTE | F12: NOMBRE DEL PROVEEDOR | G12: NIT/C.C. | H12: CONCEPTO DEL GASTO O INVERSIÓN | I12: VALOR | J12: PAGO I TRIM | K12: PAGO II TRIM | L12: PAGO III TRIM | M12: PAGO IV TRIM | N12: TOTAL PAGOS | P12: 2 | Q12: 7 | R12: =+I23 -> 0
N13: =SUM(J13:M13) -> 0
N14: =SUM(J14:M14) -> 0
N15: =SUM(J15:M15) -> 0
N16: =SUM(J16:M16) -> 0
N17: =SUM(J17:M17) -> 0
N18: =SUM(J18:M18) -> 0
N19: =SUM(J19:M19) -> 0
N20: =SUM(J20:M20) -> 0
N21: =SUM(J21:M21) -> 0
N22: =SUM(J22:M22) -> 0
A23: SUBTOTAL | I23: =SUM(I13:I22) -> 0 | J23: =SUM(J13:J22) -> 0 | K23: =SUM(K13:K22) -> 0 | L23: =SUM(L13:L22) -> 0 | M23: =SUM(M13:M22) -> 0 | N23: =SUM(N13:N22) -> 0
A24: RUBRO PRESUPUESTAL: 2.1.2.01.01.003.01.06 Otras máquinas para usos generales y sus partes y piezas
A25: No. CONTRATO | B25: FECHA CONTRATO | C25: No. RP | D25: FECHA RP | E25: FUENTE | F25: NOMBRE DEL PROVEEDOR | G25: NIT/C.C. | H25: CONCEPTO DEL GASTO O INVERSIÓN | I25: VALOR | J25: PAGO I TRIM | K25: PAGO II TRIM | L25: PAGO III TRIM | M25: PAGO IV TRIM | N25: TOTAL PAGOS
N26: =SUM(J26:M26) -> 0 | P26: 2 | Q26: 7 | R26: =+I36 -> 0
N27: =SUM(J27:M27) -> 0
N28: =SUM(J28:M28) -> 0
N29: =SUM(J29:M29) -> 0
N30: =SUM(J30:M30) -> 0
N31: =SUM(J31:M31) -> 0
N32: =SUM(J32:M32) -> 0
N33: =SUM(J33:M33) -> 0
N34: =SUM(J34:M34) -> 0
N35: =SUM(J35:M35) -> 0
A36: SUBTOTAL | I36: =SUM(I26:I35) -> 0 | J36: =SUM(J26:J35) -> 0 | K36: =SUM(K26:K35) -> 0 | L36: =SUM(L26:L35) -> 0 | M36: =SUM(M26:M35) -> 0 | N36: =SUM(N26:N35) -> 0
A37: RUBRO PRESUPUESTAL: 2.1.2.01.01.003.02.01 Maquinaria agropecuaria o silvícola y sus partes y piezas
A38: No. CONTRATO | B38: FECHA CONTRATO | C38: No. RP | D38: FECHA RP | E38: FUENTE | F38: NOMBRE DEL PROVEEDOR | G38: NIT/C.C. | H38: CONCEPTO DEL GASTO O INVERSIÓN | I38: VALOR | J38: PAGO I TRIM | K38: PAGO II TRIM | L38: PAGO III TRIM | M38: PAGO IV TRIM | N38: TOTAL PAGOS | P38: 2 | Q38: 7 | R38: =+I49 -> 0
N39: =SUM(J39:M39) -> 0
N40: =SUM(J40:M40) -> 0
N41: =SUM(J41:M41) -> 0
...

Sheet ANEXO No 5
A1: ='ANEXO No 1'!A1:T1 -> INSTITUCIÓN EDUCATIVA SANTA ANA
A2: ='ANEXO No 1'!A2:T2 -> MUNICIPIO DE COLOMBIA- HUILA
A3: ='ANEXO No 1'!A3:T3 -> NIT: 813.007.522-4
A4: ='ANEXO No 1'!A4:T4 -> CODIGO DANE No.241206001078
A5: ='ANEXO No 1'!A5:T5 -> DIRECCION: VEREDA SANTA ANA
A7: ANEXO No 5
A8: EJECUCION PRESUPUESTO DE GASTOS E INVERSIÓN DE TRANSFERENCIA DEPARTAMENTAL
A9: ='ANEXO No 1'!A9:T9 -> VIGENCIA 2025
J11: TRIM. 1° | K11: ='ANEXO No 1'!H11 -> 0 | L11: TRIM. 2 | M11: ='ANEXO No 1'!J11 -> 0 | N11: TRIM. 3 | O11: ='ANEXO No 1'!M11 -> 0 | P11: TRIM. 4 | Q11: ='ANEXO No 1'!O11 -> X
A14: CÓDIGO COMPLETO | B14: NIVEL | C14: TIPO | D14: NOMBRE DE LA CUENTA | E14: VALOR APROPIADO INICIAL | F14: MODIFICACIONES | J14: VALOR APROPIADO DEFINITIVO | K14: CERTIFICADOS DISPONIBILIDAD (CDP) | P14: REGISTRO PRESUPUESTAL (RP) | Q14: OBLIGACIONES | V14: PAGOS | AA14: VR. NO EJECUTADO
F15: ADICIONES | G15: REDUCCIONES | H15: CREDITOS | I15: CONTRACREDITOS | K15: TRIMESTRE 1 | L15: TRIMESTRE 2 | M15: TRIMESTRE 3 | N15: TRIMESTRE 4 | O15: ACUMULADO | Q15: TRIMESTRE 1 | R15: TRIMESTRE 2 | S15: TRIMESTRE 3 | T15: TRIMESTRE 4 | U15: ACUMULADO | V15: TRIMESTRE 1 | W15: TRIMESTRE 2 | X15: TRIMESTRE 3 | Y15: TRIMESTRE 4 | Z15: ACUMULADO
A16: 2 | B16: 1 | C16: A | D16: Gastos | E16: =+E17 -> 50270000 | F16: =+F17 -> 4958150 | G16: =+G17 -> 0 | H16: =+H17 -> 0 | I16: =+I17 -> 0 | J16: =+J17 -> 55228150 | K16: =+K17 -> 0 | L16: =+L17 -> 27282342 | ... AA16: =+AA17 -> 8239895
A17: 2.1 | B17: 2 | C17: A | D17: Funcionamiento | E17: =+E18+E112 -> 50270000 | F17: =+F18+F112 -> 4958150 | G17: =+G18+G112 -> 0 | H17: =+H18+H112 -> 0 | I17: =+I18+I112 -> 0 | J17: =+J18+J112 -> 55228150 | K17: =+K18+K112 -> 0 | L17: =+L18+L112 -> 27282342 | ... AA17: =+AA18+AA112 -> 8239895
A18: 2.1.2 | B18: 3 | C18: A | D18: Adquisición de bienes y servicios | E18: =+E19+E65 -> 50270000 | F18: =+F19+F65 -> 4958150 | G18: =+G19+G65 -> 0 | H18: =+H19+H65 -> 0 | I18: =+I19+I65 -> 0 | J18: =+J19+J65 -> 55228150 | K18: =+K19+K65 -> 0 | L18: =+L19+L65 -> 27282342 | ... AA18: =+AA19+AA65 -> 8239895
A19: 2.1.2.01 | B19: 4 | C19: A | D19: Adquisición de activos no financieros | E19: =+E20+E43+E53 -> 0 | F19: =+F20+F43+F53 -> 0 | G19: =+G20+G43+G53 -> 0 | H19: =+H20+H43+H53 -> 0 | I19: =+I20+I43+I53 -> 0 | J19: =+J20+J43+J53 -> 0 | K19: =+K20+K43+K53 -> 0 | L19: =+L20+L43+L53 -> 0 | ... AA19: =+AA20+AA43+AA53 -> 0
A20: 2.1.2.01.01 | B20: 5 | C20: A | D20: Activos Fijos | E20: =+E21 -> 0 | F20: =+F21 -> 0 | G20: =+G21 -> 0 | H20: =+H21 -> 0 | I20: =+I21 -> 0 | J20: =+J21 -> 0 | K20: =+K21 -> 0 | L20: =+L21 -> 0 | ... AA20: =+AA21 -> 0
A21: 2.1.2.01.01.003 | B21: 6 | C21: A | D21: Maquinaria y equipo | E21: =+E22+E25+E30+E32+E39 -> 0 | F21: =+F22+F25+F30+F32+F39 -> 0 | G21: =+G22+G25+G30+G32+G39 -> 0 | H21: =+H22+H25+H30+H32+H39 -> 0 | I21: =+I22+I25+I30+I32+I39 -> 0 | J21: =+J22+J25+J30+J32+J39 -> 0 | K21: =+K22+K25+K30+K32+K39 -> 0 | L21: =+L22+L25+L30+L32+L39 -> 0 | ... AA21: =+AA22+AA25+AA30+AA32+AA39 -> 0
A22: 2.1.2.01.01.003.01 | B22: 7 | C22: A | D22: Maquinaria para uso general | E22: =SUM(E23:E24) -> 0 | F22: =SUM(F23:F24) -> 0 | G22: =SUM(G23:G24) -> 0 | H22: =SUM(H23:H24) -> 0 | I22: =SUM(I23:I24) -> 0 | J22: =SUM(J23:J24) -> 0 | K22: =SUM(K23:K24) -> 0 | L22: =SUM(L23:L24) -> 0 | ... AA22: =SUM(AA23:AA24) -> 0
A23: 2.1.2.01.01.003.01.02 | B23: 8 | C23: C | D23: Bombas, compresores, motores de fuerza hidráulica y motores de potencia neumática y válvulas y sus partes y piezas | J23: =+E23+F23-G23+H23-I23 -> 0 | O23: =SUM(K23:N23) -> 0 | P23: =+'ANEXO No 5A'!I23 -> 0 | U23: =SUM(Q23:T23) -> 0 | Z23: =SUM(V23:Y23) -> 0 | AA23: =+J23-P23 -> 0
A24: 2.1.2.01.01.003.01.06 | B24: 8 | C24: C | D24: Otras máquinas para usos generales y sus partes y piezas | J24: =+E24+F24-G24+H24-I24 -> 0 | O24: =SUM(K24:N24) -> 0 | P24: =+'ANEXO No 5A'!I36 -> 0 | U24: =SUM(Q24:T24) -> 0 | Z24: =SUM(V24:Y24) -> 0 | AA24: =+J24-P24 -> 0
A25: 2.1.2.01.01.003.02 | B25: 7 | C25: A | D25: Maquinaria para usos especiales | E25: =SUM(E26:E29) -> 0 | F25: =SUM(F26:F29) -> 0 | G25: =SUM(G26:G29) -> 0 | H25: =SUM(H26:H29) -> 0 | I25: =SUM(I26:I29) -> 0 | J25: =SUM(J26:J29) -> 0 | K25: =SUM(K26:K29) -> 0 | L25: =SUM(L26:L29) -> 0 | ... AA25: =SUM(AA26:AA29) -> 0
A26: 2.1.2.01.01.003.02.01 | B26: 8 | C26: C | D26: Maquinaria agropecuaria o silvícola y sus partes y piezas | J26: =+E26+F26-G26+H26-I26 -> 0 | O26: =SUM(K26:N26) -> 0 | P26: =+'ANEXO No 5A'!I49 -> 0 | U26: =SUM(Q26:T26) -> 0 | Z26: =SUM(V26:Y26) -> 0 | AA26: =+J26-P26 -> 0
A27: 2.1.2.01.01.003.02.02 | B27: 8 | C27: C | D27: Máquinas herramientas y sus partes, piezas y accesorios | J27: =+E27+F27-G27+H27-I27 -> 0 | O27: =SUM(K27:N27) -> 0 | P27: =+'ANEXO No 5A'!I62 -> 0 | U27: =SUM(Q27:T27) -> 0 | Z27: =SUM(V27:Y27) -> 0 | AA27: =+J27-P27 -> 0
A28: 2.1.2.01.01.003.02.05 | B28: 8 | C28: C | D28: Maquinaria para la elaboración de alimentos, bebidas y tabaco, y sus partes y piezas | J28: =+E28+F28-G28+H28-I28 -> 0 | O28: =SUM(K28:N28) -> 0 | P28: =+'ANEXO No 5A'!I75 -> 0 | U28: =SUM(Q28:T28) -> 0 | Z28: =SUM(V28:Y28) -> 0 | AA28: =+J28-P28 -> 0
A29: 2.1.2.01.01.003.02.07 | B29: 8 | C29: C | D29: Aparatos de uso doméstico y sus partes y piezas | J29: =+E29+F29-G29+H29-I29 -> 0 | O29: =SUM(K29:N29) -> 0 | P29: =+'ANEXO No 5A'!I88 -> 0 | U29: =SUM(Q29:T29) -> 0 | Z29: =SUM(V29:Y29) -> 0 | AA29: =+J29-P29 -> 0
